Back to Multiple platform build/check report for BioC 3.15
ABCDEFGHIJKLMNOPQR[S]TUVWXYZ

This page was generated on 2022-01-28 11:06:59 -0500 (Fri, 28 Jan 2022).

HostnameOSArch (*)R versionInstalled pkgs
nebbiolo1Linux (Ubuntu 20.04.4 LTS)x86_64R Under development (unstable) (2022-01-05 r81451) -- "Unsuffered Consequences" 4167
riesling1Windows Server 2019 Standardx64R Under development (unstable) (2021-11-21 r81221) -- "Unsuffered Consequences" 4062
palomino3Windows Server 2022 Datacenterx64R Under development (unstable) (2021-12-21 r81400 ucrt) -- "Unsuffered Consequences" 4004
merida1macOS 10.14.6 Mojavex86_64R Under development (unstable) (2022-01-05 r81451) -- "Unsuffered Consequences" 4121
Click on any hostname to see more info about the system (e.g. compilers)      (*) as reported by 'uname -p', except on Windows and Mac OS X

CHECK results for staRank on nebbiolo1


To the developers/maintainers of the staRank package:
- Please allow up to 24 hours (and sometimes 48 hours) for your latest push to git@git.bioconductor.org:packages/staRank.git to
reflect on this report. See How and When does the builder pull? When will my changes propagate? here for more information.
- Make sure to use the following settings in order to reproduce any error or warning you see on this page.

raw results

Package 1880/2077HostnameOS / ArchINSTALLBUILDCHECKBUILD BIN
staRank 1.37.0  (landing page)
Juliane Siebourg
Snapshot Date: 2022-01-27 13:55:17 -0500 (Thu, 27 Jan 2022)
git_url: https://git.bioconductor.org/packages/staRank
git_branch: master
git_last_commit: fcb90d7
git_last_commit_date: 2021-10-26 12:03:13 -0500 (Tue, 26 Oct 2021)
nebbiolo1Linux (Ubuntu 20.04.4 LTS) / x86_64  OK    OK    OK  UNNEEDED, same version is already published
riesling1Windows Server 2019 Standard / x64  OK    OK    OK    OK  
palomino3Windows Server 2022 Datacenter / x64  OK    OK    OK    OK  NO, package depends on 'cellHTS2' which is not available
merida1macOS 10.14.6 Mojave / x86_64  OK    OK    OK    OK  UNNEEDED, same version is already published

Summary

Package: staRank
Version: 1.37.0
Command: /home/biocbuild/bbs-3.15-bioc/R/bin/R CMD check --install=check:staRank.install-out.txt --library=/home/biocbuild/bbs-3.15-bioc/R/library --no-vignettes --timings staRank_1.37.0.tar.gz
StartedAt: 2022-01-27 21:18:35 -0500 (Thu, 27 Jan 2022)
EndedAt: 2022-01-27 21:21:06 -0500 (Thu, 27 Jan 2022)
EllapsedTime: 150.7 seconds
RetCode: 0
Status:   OK  
CheckDir: staRank.Rcheck
Warnings: 0

Command output

##############################################################################
##############################################################################
###
### Running command:
###
###   /home/biocbuild/bbs-3.15-bioc/R/bin/R CMD check --install=check:staRank.install-out.txt --library=/home/biocbuild/bbs-3.15-bioc/R/library --no-vignettes --timings staRank_1.37.0.tar.gz
###
##############################################################################
##############################################################################


* using log directory ‘/home/biocbuild/bbs-3.15-bioc/meat/staRank.Rcheck’
* using R Under development (unstable) (2022-01-05 r81451)
* using platform: x86_64-pc-linux-gnu (64-bit)
* using session charset: UTF-8
* using option ‘--no-vignettes’
* checking for file ‘staRank/DESCRIPTION’ ... OK
* checking extension type ... Package
* this is package ‘staRank’ version ‘1.37.0’
* checking package namespace information ... OK
* checking package dependencies ... OK
* checking if this is a source package ... OK
* checking if there is a namespace ... OK
* checking for hidden files and directories ... OK
* checking for portable file names ... OK
* checking for sufficient/correct file permissions ... OK
* checking whether package ‘staRank’ can be installed ... OK
* checking installed package size ... OK
* checking package directory ... OK
* checking ‘build’ directory ... OK
* checking DESCRIPTION meta-information ... OK
* checking top-level files ... OK
* checking for left-over files ... OK
* checking index information ... OK
* checking package subdirectories ... OK
* checking R files for non-ASCII characters ... OK
* checking R files for syntax errors ... OK
* checking whether the package can be loaded ... OK
* checking whether the package can be loaded with stated dependencies ... OK
* checking whether the package can be unloaded cleanly ... OK
* checking whether the namespace can be loaded with stated dependencies ... OK
* checking whether the namespace can be unloaded cleanly ... OK
* checking dependencies in R code ... OK
* checking S3 generic/method consistency ... OK
* checking replacement functions ... OK
* checking foreign function calls ... OK
* checking R code for possible problems ... NOTE
OPIScore : <anonymous>: no visible global function definition for
  ‘phyper’
aggregRank : <anonymous>: no visible global function definition for
  ‘median’
mwTest2samp: no visible global function definition for ‘pwilcox’
mwTest2samp: no visible global function definition for ‘pnorm’
show,RankSummary: no visible global function definition for ‘head’
stabilityRanking,cellHTS: no visible global function definition for
  ‘channelNames’
stabilityRanking,cellHTS: no visible global function definition for
  ‘sampleNames’
stabilityRanking,cellHTS: no visible global function definition for
  ‘featureNames’
stabilityRanking,numeric: no visible global function definition for
  ‘avrgRank<-’
stabilityRanking,numeric: no visible global function definition for
  ‘cor’
summaryStats,list : <anonymous>: no visible global function definition
  for ‘median’
summaryStats,list : <anonymous>: no visible global function definition
  for ‘t.test’
summaryStats,matrix : <anonymous>: no visible global function
  definition for ‘median’
summaryStats,matrix : <anonymous>: no visible global function
  definition for ‘t.test’
Undefined global functions or variables:
  avrgRank<- channelNames cor featureNames head median phyper pnorm
  pwilcox sampleNames t.test
Consider adding
  importFrom("stats", "cor", "median", "phyper", "pnorm", "pwilcox",
             "t.test")
  importFrom("utils", "head")
to your NAMESPACE file.
* checking Rd files ... OK
* checking Rd metadata ... OK
* checking Rd cross-references ... OK
* checking for missing documentation entries ... OK
* checking for code/documentation mismatches ... OK
* checking Rd \usage sections ... OK
* checking Rd contents ... OK
* checking for unstated dependencies in examples ... OK
* checking contents of ‘data’ directory ... OK
* checking data for non-ASCII characters ... OK
* checking data for ASCII and uncompressed saves ... OK
* checking files in ‘vignettes’ ... OK
* checking examples ... OK
* checking for unstated dependencies in vignettes ... OK
* checking package vignettes in ‘inst/doc’ ... OK
* checking running R code from vignettes ... SKIPPED
* checking re-building of vignette outputs ... SKIPPED
* checking PDF version of manual ... OK
* DONE

Status: 1 NOTE
See
  ‘/home/biocbuild/bbs-3.15-bioc/meat/staRank.Rcheck/00check.log’
for details.



Installation output

staRank.Rcheck/00install.out

##############################################################################
##############################################################################
###
### Running command:
###
###   /home/biocbuild/bbs-3.15-bioc/R/bin/R CMD INSTALL staRank
###
##############################################################################
##############################################################################


* installing to library ‘/home/biocbuild/bbs-3.15-bioc/R/library’
* installing *source* package ‘staRank’ ...
** using staged installation
** R
** data
** inst
** byte-compile and prepare package for lazy loading
** help
*** installing help indices
** building package indices
** installing vignettes
** testing if installed package can be loaded from temporary location
** testing if installed package can be loaded from final location
** testing if installed package keeps a record of temporary installation path
* DONE (staRank)

Tests output


Example timings

staRank.Rcheck/staRank-Ex.timings

nameusersystemelapsed
RankSummary-class0.0430.0010.043
aggregRank0.0670.0110.079
dataFormatRSA0.0680.0010.068
getRankmatrix0.0480.0000.049
getSampleScores-methods0.050.000.05
getStability0.0470.0020.051
mwTest2samp0.0000.0000.001
runRSA0.0520.0070.060
staRank-package0.0650.0240.090
stabilityRanking-methods0.0520.0040.056
summary-methods0.0440.0120.056
summaryStats-methods0.0520.0040.056
uniqueRSARanking0.0540.0000.055