Back to Multiple platform build/check report for BioC 3.16
ABCDEFGHIJKLMNOPQR[S]TUVWXYZ

This page was generated on 2022-06-30 11:07:20 -0400 (Thu, 30 Jun 2022).

HostnameOSArch (*)R versionInstalled pkgs
nebbiolo2Linux (Ubuntu 20.04.4 LTS)x86_644.2.0 Patched (2022-06-02 r82447) -- "Vigorous Calisthenics" 4343
palomino4Windows Server 2022 Datacenterx644.2.0 Patched (2022-06-02 r82447 ucrt) -- "Vigorous Calisthenics" 4147
lconwaymacOS 12.2.1 Montereyx86_644.2.0 Patched (2022-05-29 r82424) -- "Vigorous Calisthenics" 4159
Click on any hostname to see more info about the system (e.g. compilers)      (*) as reported by 'uname -p', except on Windows and Mac OS X

BUILD results for sscore on palomino4


To the developers/maintainers of the sscore package:
- Please allow up to 24 hours (and sometimes 48 hours) for your latest push to git@git.bioconductor.org:packages/sscore.git to
reflect on this report. See How and When does the builder pull? When will my changes propagate? for more information.
- Make sure to use the following settings in order to reproduce any error or warning you see on this page.

raw results

Package 1909/2124HostnameOS / ArchINSTALLBUILDCHECKBUILD BIN
sscore 1.69.0  (landing page)
Richard Kennedy
Snapshot Date: 2022-06-29 14:00:05 -0400 (Wed, 29 Jun 2022)
git_url: https://git.bioconductor.org/packages/sscore
git_branch: master
git_last_commit: cc3c875
git_last_commit_date: 2022-04-26 10:57:59 -0400 (Tue, 26 Apr 2022)
nebbiolo2Linux (Ubuntu 20.04.4 LTS) / x86_64  OK    OK    OK  UNNEEDED, same version is already published
palomino4Windows Server 2022 Datacenter / x64  OK    OK    OK    OK  UNNEEDED, same version is already published
lconwaymacOS 12.2.1 Monterey / x86_64  OK    OK    OK    OK  UNNEEDED, same version is already published

Summary

Package: sscore
Version: 1.69.0
Command: chmod a+r sscore -R && F:\biocbuild\bbs-3.16-bioc\R\bin\R.exe CMD build --keep-empty-dirs --no-resave-data sscore
StartedAt: 2022-06-29 21:41:31 -0400 (Wed, 29 Jun 2022)
EndedAt: 2022-06-29 21:42:09 -0400 (Wed, 29 Jun 2022)
EllapsedTime: 38.1 seconds
RetCode: 0
Status:   OK  
PackageFile: sscore_1.69.0.tar.gz
PackageFileSize: 333.6 KiB

Command output

##############################################################################
##############################################################################
###
### Running command:
###
###   chmod a+r sscore -R && F:\biocbuild\bbs-3.16-bioc\R\bin\R.exe CMD build --keep-empty-dirs --no-resave-data sscore
###
##############################################################################
##############################################################################


* checking for file 'sscore/DESCRIPTION' ... OK
* preparing 'sscore':
* checking DESCRIPTION meta-information ... OK
* installing the package to build vignettes
* creating vignettes ... OK
* checking for LF line-endings in source and make files and shell scripts
* checking for empty or unneeded directories
* building 'sscore_1.69.0.tar.gz'