Back to Multiple platform build/check report for BioC 3.14
ABCDEFGHIJKLMNOPQR[S]TUVWXYZ

This page was generated on 2021-10-20 12:05:27 -0400 (Wed, 20 Oct 2021).

INSTALL results for srnadiff on riesling1

To the developers/maintainers of the srnadiff package:
- Please allow up to 24 hours (and sometimes 48 hours) for your latest push to git@git.bioconductor.org:packages/srnadiff.git to
reflect on this report. See How and When does the builder pull? When will my changes propagate? here for more information.
- Make sure to use the following settings in order to reproduce any error or warning you see on this page.

raw results

Package 1866/2072HostnameOS / ArchINSTALLBUILDCHECKBUILD BIN
srnadiff 1.13.2  (landing page)
Zytnicki Matthias
Snapshot Date: 2021-10-19 14:50:04 -0400 (Tue, 19 Oct 2021)
git_url: https://git.bioconductor.org/packages/srnadiff
git_branch: master
git_last_commit: bfc5dc4
git_last_commit_date: 2021-09-13 05:43:40 -0400 (Mon, 13 Sep 2021)
nebbiolo2Linux (Ubuntu 20.04.2 LTS) / x86_64  OK    OK    OK  UNNEEDED, same version is already published
riesling1Windows Server 2019 Standard / x64  OK    OK    ERROR    OK  
merida1macOS 10.14.6 Mojave / x86_64  OK    OK    OK    NA  

Summary

Package: srnadiff
Version: 1.13.2
Command: C:\cygwin\bin\curl.exe -O http://155.52.207.166/BBS/3.14/bioc/src/contrib/srnadiff_1.13.2.tar.gz && rm -rf srnadiff.buildbin-libdir && mkdir srnadiff.buildbin-libdir && D:\biocbuild\bbs-3.14-bioc\R\bin\R.exe CMD INSTALL --merge-multiarch --build --library=srnadiff.buildbin-libdir srnadiff_1.13.2.tar.gz && D:\biocbuild\bbs-3.14-bioc\R\bin\R.exe CMD INSTALL srnadiff_1.13.2.zip && rm srnadiff_1.13.2.tar.gz srnadiff_1.13.2.zip
StartedAt: 2021-10-19 19:18:30 -0400 (Tue, 19 Oct 2021)
EndedAt: 2021-10-19 19:21:25 -0400 (Tue, 19 Oct 2021)
EllapsedTime: 175.1 seconds
RetCode: 0
Status:   OK  

Command output

##############################################################################
##############################################################################
###
### Running command:
###
###   C:\cygwin\bin\curl.exe -O http://155.52.207.166/BBS/3.14/bioc/src/contrib/srnadiff_1.13.2.tar.gz && rm -rf srnadiff.buildbin-libdir && mkdir srnadiff.buildbin-libdir && D:\biocbuild\bbs-3.14-bioc\R\bin\R.exe CMD INSTALL --merge-multiarch --build --library=srnadiff.buildbin-libdir srnadiff_1.13.2.tar.gz && D:\biocbuild\bbs-3.14-bioc\R\bin\R.exe CMD INSTALL srnadiff_1.13.2.zip && rm srnadiff_1.13.2.tar.gz srnadiff_1.13.2.zip
###
##############################################################################
##############################################################################


  % Total    % Received % Xferd  Average Speed   Time    Time     Time  Current
                                 Dload  Upload   Total   Spent    Left  Speed

  0     0    0     0    0     0      0      0 --:--:-- --:--:-- --:--:--     0
 30 2009k   30  610k    0     0  1374k      0  0:00:01 --:--:--  0:00:01 1371k
100 2009k  100 2009k    0     0  2009k      0  0:00:01  0:00:01 --:--:-- 2009k

install for i386

* installing *source* package 'srnadiff' ...
** using staged installation
** libs
"C:/rtools40/mingw32/bin/"g++  -std=gnu++11 -I"D:/biocbuild/bbs-3.14-bioc/R/include" -DNDEBUG  -I'D:/biocbuild/bbs-3.14-bioc/R/library/Rcpp/include'   -I"C:/extsoft/include"     -O2 -Wall  -mfpmath=sse -msse2 -mstackrealign  -c RcppExports.cpp -o RcppExports.o
"C:/rtools40/mingw32/bin/"g++  -std=gnu++11 -I"D:/biocbuild/bbs-3.14-bioc/R/include" -DNDEBUG  -I'D:/biocbuild/bbs-3.14-bioc/R/library/Rcpp/include'   -I"C:/extsoft/include"     -O2 -Wall  -mfpmath=sse -msse2 -mstackrealign  -c rcpp_hmm.cpp -o rcpp_hmm.o
"C:/rtools40/mingw32/bin/"g++  -std=gnu++11 -I"D:/biocbuild/bbs-3.14-bioc/R/include" -DNDEBUG  -I'D:/biocbuild/bbs-3.14-bioc/R/library/Rcpp/include'   -I"C:/extsoft/include"     -O2 -Wall  -mfpmath=sse -msse2 -mstackrealign  -c rcpp_ir.cpp -o rcpp_ir.o
"C:/rtools40/mingw32/bin/"g++  -std=gnu++11 -I"D:/biocbuild/bbs-3.14-bioc/R/include" -DNDEBUG  -I'D:/biocbuild/bbs-3.14-bioc/R/library/Rcpp/include'   -I"C:/extsoft/include"     -O2 -Wall  -mfpmath=sse -msse2 -mstackrealign  -c rcpp_main.cpp -o rcpp_main.o
"C:/rtools40/mingw32/bin/"g++  -std=gnu++11 -I"D:/biocbuild/bbs-3.14-bioc/R/include" -DNDEBUG  -I'D:/biocbuild/bbs-3.14-bioc/R/library/Rcpp/include'   -I"C:/extsoft/include"     -O2 -Wall  -mfpmath=sse -msse2 -mstackrealign  -c rcpp_utils.cpp -o rcpp_utils.o
"C:/rtools40/mingw32/bin/"gcc  -I"D:/biocbuild/bbs-3.14-bioc/R/include" -DNDEBUG  -I'D:/biocbuild/bbs-3.14-bioc/R/library/Rcpp/include'   -I"C:/extsoft/include"     -O2 -Wall  -std=gnu99 -mfpmath=sse -msse2 -mstackrealign  -c srnadiff_init.c -o srnadiff_init.o
C:/rtools40/mingw32/bin/g++ -shared -s -static-libgcc -o srnadiff.dll tmp.def RcppExports.o rcpp_hmm.o rcpp_ir.o rcpp_main.o rcpp_utils.o srnadiff_init.o -LC:/extsoft/lib/i386 -LC:/extsoft/lib -LD:/biocbuild/bbs-3.14-bioc/R/bin/i386 -lR
installing to D:/biocbuild/bbs-3.14-bioc/meat/srnadiff.buildbin-libdir/00LOCK-srnadiff/00new/srnadiff/libs/i386
** R
** inst
** byte-compile and prepare package for lazy loading
** help
*** installing help indices
  converting help for package 'srnadiff'
    finding HTML links ... done
    annotReg                                html  
    bamFiles                                html  
    chromosomeSizes                         html  
    countMatrix                             html  
    coverages                               html  
    normFactors                             html  
    parameters                              html  
    plotRegions                             html  
    finding level-2 HTML links ... done

    readAnnotation                          html  
    regions                                 html  
    sampleInfo                              html  
    srnadiff                                html  
    srnadiffDefaultParameters               html  
    srnadiffExample                         html  
    srnadiffExp                             html  
** building package indices
** installing vignettes
** testing if installed package can be loaded from temporary location
** testing if installed package can be loaded from final location
** testing if installed package keeps a record of temporary installation path

install for x64

* installing *source* package 'srnadiff' ...
** libs
"C:/rtools40/mingw64/bin/"g++  -std=gnu++11 -I"D:/biocbuild/bbs-3.14-bioc/R/include" -DNDEBUG  -I'D:/biocbuild/bbs-3.14-bioc/R/library/Rcpp/include'   -I"C:/extsoft/include"     -O2 -Wall  -mfpmath=sse -msse2 -mstackrealign  -c RcppExports.cpp -o RcppExports.o
"C:/rtools40/mingw64/bin/"g++  -std=gnu++11 -I"D:/biocbuild/bbs-3.14-bioc/R/include" -DNDEBUG  -I'D:/biocbuild/bbs-3.14-bioc/R/library/Rcpp/include'   -I"C:/extsoft/include"     -O2 -Wall  -mfpmath=sse -msse2 -mstackrealign  -c rcpp_hmm.cpp -o rcpp_hmm.o
"C:/rtools40/mingw64/bin/"g++  -std=gnu++11 -I"D:/biocbuild/bbs-3.14-bioc/R/include" -DNDEBUG  -I'D:/biocbuild/bbs-3.14-bioc/R/library/Rcpp/include'   -I"C:/extsoft/include"     -O2 -Wall  -mfpmath=sse -msse2 -mstackrealign  -c rcpp_ir.cpp -o rcpp_ir.o
"C:/rtools40/mingw64/bin/"g++  -std=gnu++11 -I"D:/biocbuild/bbs-3.14-bioc/R/include" -DNDEBUG  -I'D:/biocbuild/bbs-3.14-bioc/R/library/Rcpp/include'   -I"C:/extsoft/include"     -O2 -Wall  -mfpmath=sse -msse2 -mstackrealign  -c rcpp_main.cpp -o rcpp_main.o
"C:/rtools40/mingw64/bin/"g++  -std=gnu++11 -I"D:/biocbuild/bbs-3.14-bioc/R/include" -DNDEBUG  -I'D:/biocbuild/bbs-3.14-bioc/R/library/Rcpp/include'   -I"C:/extsoft/include"     -O2 -Wall  -mfpmath=sse -msse2 -mstackrealign  -c rcpp_utils.cpp -o rcpp_utils.o
"C:/rtools40/mingw64/bin/"gcc  -I"D:/biocbuild/bbs-3.14-bioc/R/include" -DNDEBUG  -I'D:/biocbuild/bbs-3.14-bioc/R/library/Rcpp/include'   -I"C:/extsoft/include"     -O2 -Wall  -std=gnu99 -mfpmath=sse -msse2 -mstackrealign  -c srnadiff_init.c -o srnadiff_init.o
C:/rtools40/mingw64/bin/g++ -shared -s -static-libgcc -o srnadiff.dll tmp.def RcppExports.o rcpp_hmm.o rcpp_ir.o rcpp_main.o rcpp_utils.o srnadiff_init.o -LC:/extsoft/lib/x64 -LC:/extsoft/lib -LD:/biocbuild/bbs-3.14-bioc/R/bin/x64 -lR
installing to D:/biocbuild/bbs-3.14-bioc/meat/srnadiff.buildbin-libdir/srnadiff/libs/x64
** testing if installed package can be loaded
* MD5 sums
packaged installation of 'srnadiff' as srnadiff_1.13.2.zip
* DONE (srnadiff)
* installing to library 'D:/biocbuild/bbs-3.14-bioc/R/library'
package 'srnadiff' successfully unpacked and MD5 sums checked