Back to Multiple platform build/check report for BioC 3.14
ABCDEFGHIJKLMNOPQR[S]TUVWXYZ

This page was generated on 2021-10-22 12:04:45 -0400 (Fri, 22 Oct 2021).

BUILD results for splatter on riesling1

To the developers/maintainers of the splatter package:
- Please allow up to 24 hours (and sometimes 48 hours) for your latest push to git@git.bioconductor.org:packages/splatter.git to
reflect on this report. See How and When does the builder pull? When will my changes propagate? here for more information.
- Make sure to use the following settings in order to reproduce any error or warning you see on this page.

raw results

Package 1854/2075HostnameOS / ArchINSTALLBUILDCHECKBUILD BIN
splatter 1.17.3  (landing page)
Luke Zappia
Snapshot Date: 2021-10-21 14:50:08 -0400 (Thu, 21 Oct 2021)
git_url: https://git.bioconductor.org/packages/splatter
git_branch: master
git_last_commit: 4edfb8b
git_last_commit_date: 2021-10-07 08:13:30 -0400 (Thu, 07 Oct 2021)
nebbiolo2Linux (Ubuntu 20.04.2 LTS) / x86_64  OK    OK    OK  UNNEEDED, same version is already published
riesling1Windows Server 2019 Standard / x64  OK    OK    OK    OK  UNNEEDED, same version is already published
merida1macOS 10.14.6 Mojave / x86_64  OK    OK    OK    NA  

Summary

Package: splatter
Version: 1.17.3
Command: chmod a+r splatter -R && D:\biocbuild\bbs-3.14-bioc\R\bin\R.exe CMD build --keep-empty-dirs --no-resave-data splatter
StartedAt: 2021-10-21 23:23:13 -0400 (Thu, 21 Oct 2021)
EndedAt: 2021-10-21 23:27:30 -0400 (Thu, 21 Oct 2021)
EllapsedTime: 257.2 seconds
RetCode: 0
Status:   OK  
PackageFile: splatter_1.17.3.tar.gz
PackageFileSize: 4.164 MiB

Command output

##############################################################################
##############################################################################
###
### Running command:
###
###   chmod a+r splatter -R && D:\biocbuild\bbs-3.14-bioc\R\bin\R.exe CMD build --keep-empty-dirs --no-resave-data splatter
###
##############################################################################
##############################################################################


* checking for file 'splatter/DESCRIPTION' ... OK
* preparing 'splatter':
* checking DESCRIPTION meta-information ... OK
* installing the package to build vignettes
* creating vignettes ... OK
* checking for LF line-endings in source and make files and shell scripts
* checking for empty or unneeded directories
Omitted 'LazyData' from DESCRIPTION
* building 'splatter_1.17.3.tar.gz'