Index of /checkResults/devel/bioc-LATEST/spicyR/raw-results
Name
Last modified
Size
Description
Parent Directory
-
info.dcf
02-May-2024 00:37
270
merida1/
02-May-2024 00:40
-
nebbiolo2/
02-May-2024 00:38
-
palomino4/
02-May-2024 00:39
-