Back to Multiple platform build/check report for BioC 3.14
ABCDEFGHIJKLMNOPQR[S]TUVWXYZ

This page was generated on 2021-10-22 12:04:45 -0400 (Fri, 22 Oct 2021).

INSTALL results for spatialHeatmap on riesling1

To the developers/maintainers of the spatialHeatmap package:
- Please allow up to 24 hours (and sometimes 48 hours) for your latest push to git@git.bioconductor.org:packages/spatialHeatmap.git to
reflect on this report. See How and When does the builder pull? When will my changes propagate? here for more information.
- Make sure to use the following settings in order to reproduce any error or warning you see on this page.

raw results

Package 1841/2075HostnameOS / ArchINSTALLBUILDCHECKBUILD BIN
spatialHeatmap 1.99.1  (landing page)
Jianhai Zhang
Snapshot Date: 2021-10-21 14:50:08 -0400 (Thu, 21 Oct 2021)
git_url: https://git.bioconductor.org/packages/spatialHeatmap
git_branch: master
git_last_commit: 638b47e
git_last_commit_date: 2021-10-19 01:42:16 -0400 (Tue, 19 Oct 2021)
nebbiolo2Linux (Ubuntu 20.04.2 LTS) / x86_64  OK    OK    OK  UNNEEDED, same version is already published
riesling1Windows Server 2019 Standard / x64  OK    OK    OK    OK  UNNEEDED, same version is already published
merida1macOS 10.14.6 Mojave / x86_64  OK    OK    OK    NA  

Summary

Package: spatialHeatmap
Version: 1.99.1
Command: C:\cygwin\bin\curl.exe -O http://155.52.207.166/BBS/3.14/bioc/src/contrib/spatialHeatmap_1.99.1.tar.gz && rm -rf spatialHeatmap.buildbin-libdir && mkdir spatialHeatmap.buildbin-libdir && D:\biocbuild\bbs-3.14-bioc\R\bin\R.exe CMD INSTALL --merge-multiarch --build --library=spatialHeatmap.buildbin-libdir spatialHeatmap_1.99.1.tar.gz && D:\biocbuild\bbs-3.14-bioc\R\bin\R.exe CMD INSTALL spatialHeatmap_1.99.1.zip && rm spatialHeatmap_1.99.1.tar.gz spatialHeatmap_1.99.1.zip
StartedAt: 2021-10-21 18:18:16 -0400 (Thu, 21 Oct 2021)
EndedAt: 2021-10-21 18:20:58 -0400 (Thu, 21 Oct 2021)
EllapsedTime: 162.8 seconds
RetCode: 0
Status:   OK  

Command output

##############################################################################
##############################################################################
###
### Running command:
###
###   C:\cygwin\bin\curl.exe -O http://155.52.207.166/BBS/3.14/bioc/src/contrib/spatialHeatmap_1.99.1.tar.gz && rm -rf spatialHeatmap.buildbin-libdir && mkdir spatialHeatmap.buildbin-libdir && D:\biocbuild\bbs-3.14-bioc\R\bin\R.exe CMD INSTALL --merge-multiarch --build --library=spatialHeatmap.buildbin-libdir spatialHeatmap_1.99.1.tar.gz && D:\biocbuild\bbs-3.14-bioc\R\bin\R.exe CMD INSTALL spatialHeatmap_1.99.1.zip && rm spatialHeatmap_1.99.1.tar.gz spatialHeatmap_1.99.1.zip
###
##############################################################################
##############################################################################


  % Total    % Received % Xferd  Average Speed   Time    Time     Time  Current
                                 Dload  Upload   Total   Spent    Left  Speed

  0     0    0     0    0     0      0      0 --:--:-- --:--:-- --:--:--     0
  0 7356k    0  1137    0     0  13698      0  0:09:09 --:--:--  0:09:09 13698
 47 7356k   47 3477k    0     0  3302k      0  0:00:02  0:00:01  0:00:01 3299k
100 7356k  100 7356k    0     0  3952k      0  0:00:01  0:00:01 --:--:-- 3950k

install for i386

* installing *source* package 'spatialHeatmap' ...
** using staged installation
** R
** data
** inst
** byte-compile and prepare package for lazy loading
** help
*** installing help indices
  converting help for package 'spatialHeatmap'
    finding HTML links ... done
    aSVG.remote.repo                        html  
    adj_mod                                 html  
    aggr_rep                                html  
    com_factor                              html  
    custom_shiny                            html  
    deg.table                               html  
    deg_ovl                                 html  
    edit_tar                                html  
    filter_data                             html  
    lis.deg.up.down                         html  
    matrix_hm                               html  
    network                                 html  
    norm_data                               html  
    profile_gene                            html  
    read_cache                              html  
    read_fr                                 html  
    read_hdf5                               html  
    return_feature                          html  
    save_cache                              html  
    shiny_shm                               html  
    spatialHeatmap-package                  html  
    spatial_enrich                          html  
    spatial_hm                              html  
    sub_data                                html  
    submatrix                               html  
    update_feature                          html  
    write_hdf5                              html  
** building package indices
** installing vignettes
** testing if installed package can be loaded from temporary location
** testing if installed package can be loaded from final location
** testing if installed package keeps a record of temporary installation path

install for x64

* installing *source* package 'spatialHeatmap' ...
** testing if installed package can be loaded
* MD5 sums
packaged installation of 'spatialHeatmap' as spatialHeatmap_1.99.1.zip
* DONE (spatialHeatmap)
* installing to library 'D:/biocbuild/bbs-3.14-bioc/R/library'
package 'spatialHeatmap' successfully unpacked and MD5 sums checked