Back to Multiple platform build/check report for BioC 3.14
ABCDEFGHIJKLMNOPQR[S]TUVWXYZ

This page was generated on 2021-10-20 12:05:27 -0400 (Wed, 20 Oct 2021).

BUILD results for spatialHeatmap on riesling1

To the developers/maintainers of the spatialHeatmap package:
- Please allow up to 24 hours (and sometimes 48 hours) for your latest push to git@git.bioconductor.org:packages/spatialHeatmap.git to
reflect on this report. See How and When does the builder pull? When will my changes propagate? here for more information.
- Make sure to use the following settings in order to reproduce any error or warning you see on this page.

raw results

Package 1839/2072HostnameOS / ArchINSTALLBUILDCHECKBUILD BIN
spatialHeatmap 1.99.1  (landing page)
Jianhai Zhang
Snapshot Date: 2021-10-19 14:50:04 -0400 (Tue, 19 Oct 2021)
git_url: https://git.bioconductor.org/packages/spatialHeatmap
git_branch: master
git_last_commit: 638b47e
git_last_commit_date: 2021-10-19 01:42:16 -0400 (Tue, 19 Oct 2021)
nebbiolo2Linux (Ubuntu 20.04.2 LTS) / x86_64  OK    OK    OK  YES
riesling1Windows Server 2019 Standard / x64  OK    OK    OK    OK  YES
merida1macOS 10.14.6 Mojave / x86_64  OK    OK    OK    NA  

Summary

Package: spatialHeatmap
Version: 1.99.1
Command: chmod a+r spatialHeatmap -R && D:\biocbuild\bbs-3.14-bioc\R\bin\R.exe CMD build --keep-empty-dirs --no-resave-data spatialHeatmap
StartedAt: 2021-10-19 23:30:14 -0400 (Tue, 19 Oct 2021)
EndedAt: 2021-10-19 23:35:11 -0400 (Tue, 19 Oct 2021)
EllapsedTime: 296.9 seconds
RetCode: 0
Status:   OK  
PackageFile: spatialHeatmap_1.99.1.tar.gz
PackageFileSize: 8.86 MiB

Command output

##############################################################################
##############################################################################
###
### Running command:
###
###   chmod a+r spatialHeatmap -R && D:\biocbuild\bbs-3.14-bioc\R\bin\R.exe CMD build --keep-empty-dirs --no-resave-data spatialHeatmap
###
##############################################################################
##############################################################################


* checking for file 'spatialHeatmap/DESCRIPTION' ... OK
* preparing 'spatialHeatmap':
* checking DESCRIPTION meta-information ... OK
* installing the package to process help pages
* saving partial Rd database
* creating vignettes ... OK
* checking for LF line-endings in source and make files and shell scripts
* checking for empty or unneeded directories
* looking to see if a 'data/datalist' file should be added
* building 'spatialHeatmap_1.99.1.tar.gz'