Name | Last modified | Size | Description | |
---|---|---|---|---|
Parent Directory | - | |||
buildbin-out.txt | 12-Jun-2024 04:43 | 1.0K | ||
buildbin-summary.dcf | 12-Jun-2024 04:43 | 542 | ||
buildsrc-out.txt | 12-Jun-2024 04:43 | 887 | ||
buildsrc-summary.dcf | 12-Jun-2024 04:43 | 434 | ||
checksrc-out.txt | 12-Jun-2024 04:43 | 3.7K | ||
checksrc-summary.dcf | 12-Jun-2024 04:43 | 452 | ||
install-out.txt | 12-Jun-2024 04:43 | 860 | ||
install-summary.dcf | 12-Jun-2024 04:43 | 273 | ||