Name | Last modified | Size | Description | |
---|---|---|---|---|
Parent Directory | - | |||
buildsrc-out.txt | 18-May-2024 00:37 | 870 | ||
buildsrc-summary.dcf | 18-May-2024 00:37 | 424 | ||
checksrc-out.txt | 18-May-2024 00:37 | 5.1K | ||
checksrc-summary.dcf | 18-May-2024 00:37 | 418 | ||
install-out.txt | 18-May-2024 00:37 | 972 | ||
install-summary.dcf | 18-May-2024 00:37 | 259 | ||