Back to Multiple platform build/check report for BioC 3.17:   simplified   long
ABCDEFGHIJKLMNOPQR[S]TUVWXYZ

This page was generated on 2023-02-03 11:05:34 -0500 (Fri, 03 Feb 2023).

HostnameOSArch (*)R versionInstalled pkgs
nebbiolo1Linux (Ubuntu 22.04.1 LTS)x86_64R Under development (unstable) (2023-01-10 r83596) -- "Unsuffered Consequences" 4483
palomino3Windows Server 2022 Datacenterx64R Under development (unstable) (2023-01-10 r83596 ucrt) -- "Unsuffered Consequences" 4249
merida1macOS 10.14.6 Mojavex86_64R Under development (unstable) (2023-01-10 r83596) -- "Unsuffered Consequences" 4272
Click on any hostname to see more info about the system (e.g. compilers)      (*) as reported by 'uname -p', except on Windows and Mac OS X

BUILD results for snapCGH on nebbiolo1


To the developers/maintainers of the snapCGH package:
- Please allow up to 24 hours (and sometimes 48 hours) for your latest push to git@git.bioconductor.org:packages/snapCGH.git to
reflect on this report. See How and When does the builder pull? When will my changes propagate? for more information.
- Make sure to use the following settings in order to reproduce any error or warning you see on this page.

raw results

Package 1892/2164HostnameOS / ArchINSTALLBUILDCHECKBUILD BIN
snapCGH 1.69.0  (landing page)
John Marioni
Snapshot Date: 2023-02-02 14:00:21 -0500 (Thu, 02 Feb 2023)
git_url: https://git.bioconductor.org/packages/snapCGH
git_branch: master
git_last_commit: 29ab2bc
git_last_commit_date: 2022-11-01 10:40:32 -0500 (Tue, 01 Nov 2022)
nebbiolo1Linux (Ubuntu 22.04.1 LTS) / x86_64  OK    OK    OK  UNNEEDED, same version is already published
palomino3Windows Server 2022 Datacenter / x64  OK    OK    OK    OK  UNNEEDED, same version is already published
merida1macOS 10.14.6 Mojave / x86_64  OK    OK    OK    OK  UNNEEDED, same version is already published

Summary

Package: snapCGH
Version: 1.69.0
Command: /home/biocbuild/bbs-3.17-bioc/R/bin/R CMD build --keep-empty-dirs --no-resave-data snapCGH
StartedAt: 2023-02-02 18:04:08 -0500 (Thu, 02 Feb 2023)
EndedAt: 2023-02-02 18:04:48 -0500 (Thu, 02 Feb 2023)
EllapsedTime: 40.1 seconds
RetCode: 0
Status:   OK  
PackageFile: snapCGH_1.69.0.tar.gz
PackageFileSize: 1.008 MiB

Command output

##############################################################################
##############################################################################
###
### Running command:
###
###   /home/biocbuild/bbs-3.17-bioc/R/bin/R CMD build --keep-empty-dirs --no-resave-data snapCGH
###
##############################################################################
##############################################################################


* checking for file ‘snapCGH/DESCRIPTION’ ... OK
* preparing ‘snapCGH’:
* checking DESCRIPTION meta-information ... OK
* cleaning src
* installing the package to build vignettes
* creating vignettes ... OK
* cleaning src
* checking for LF line-endings in source and make files and shell scripts
* checking for empty or unneeded directories
* building ‘snapCGH_1.69.0.tar.gz’