Back to Multiple platform build/check report for BioC 3.16
ABCDEFGHIJKLMNOPQR[S]TUVWXYZ

This page was generated on 2022-06-24 11:08:39 -0400 (Fri, 24 Jun 2022).

HostnameOSArch (*)R versionInstalled pkgs
nebbiolo2Linux (Ubuntu 20.04.4 LTS)x86_644.2.0 Patched (2022-06-02 r82447) -- "Vigorous Calisthenics" 4331
palomino4Windows Server 2022 Datacenterx644.2.0 Patched (2022-06-02 r82447 ucrt) -- "Vigorous Calisthenics" 4136
lconwaymacOS 12.2.1 Montereyx86_644.2.0 Patched (2022-05-29 r82424) -- "Vigorous Calisthenics" 4147
Click on any hostname to see more info about the system (e.g. compilers)      (*) as reported by 'uname -p', except on Windows and Mac OS X

BUILD BIN results for snapCGH on lconway


To the developers/maintainers of the snapCGH package:
- Please allow up to 24 hours (and sometimes 48 hours) for your latest push to git@git.bioconductor.org:packages/snapCGH.git to
reflect on this report. See How and When does the builder pull? When will my changes propagate? for more information.
- Make sure to use the following settings in order to reproduce any error or warning you see on this page.

raw results

Package 1852/2118HostnameOS / ArchINSTALLBUILDCHECKBUILD BIN
snapCGH 1.67.0  (landing page)
John Marioni
Snapshot Date: 2022-06-23 14:00:04 -0400 (Thu, 23 Jun 2022)
git_url: https://git.bioconductor.org/packages/snapCGH
git_branch: master
git_last_commit: 2426aa7
git_last_commit_date: 2022-04-26 10:57:56 -0400 (Tue, 26 Apr 2022)
nebbiolo2Linux (Ubuntu 20.04.4 LTS) / x86_64  OK    OK    OK  UNNEEDED, same version is already published
palomino4Windows Server 2022 Datacenter / x64  OK    OK    OK    OK  UNNEEDED, same version is already published
lconwaymacOS 12.2.1 Monterey / x86_64  OK    OK    OK    OK  UNNEEDED, same version is already published

Summary

Package: snapCGH
Version: 1.67.0
Command: rm -rf snapCGH.buildbin-libdir && mkdir snapCGH.buildbin-libdir && /Users/biocbuild/BBS/utils/build-universal.sh snapCGH_1.67.0.tar.gz /Library/Frameworks/R.framework/Resources/bin/R snapCGH.buildbin-libdir
StartedAt: 2022-06-23 23:58:27 -0400 (Thu, 23 Jun 2022)
EndedAt: 2022-06-23 23:59:02 -0400 (Thu, 23 Jun 2022)
EllapsedTime: 35.3 seconds
RetCode: 0
Status:   OK  
PackageFile: snapCGH_1.67.0.tgz
PackageFileSize: 1.365 MiB

Command output

##############################################################################
##############################################################################
###
### Running command:
###
###   rm -rf snapCGH.buildbin-libdir && mkdir snapCGH.buildbin-libdir && /Users/biocbuild/BBS/utils/build-universal.sh snapCGH_1.67.0.tar.gz /Library/Frameworks/R.framework/Resources/bin/R snapCGH.buildbin-libdir
###
##############################################################################
##############################################################################


>>>>>>> 
>>>>>>> INSTALLATION WITH 'R CMD INSTALL --preclean --no-multiarch --library=snapCGH.buildbin-libdir snapCGH_1.67.0.tar.gz'
>>>>>>> 

* installing *source* package ‘snapCGH’ ...
** using staged installation
** libs
clang -mmacosx-version-min=10.13 -I"/Library/Frameworks/R.framework/Resources/include" -DNDEBUG   -I/usr/local/include   -fPIC  -Wall -g -O2  -c optimizer.c -o optimizer.o
optimizer.c:26:10: warning: unused variable 'denom' [-Wunused-variable]
  double denom, temp, temp2, temp3;
         ^
optimizer.c:26:23: warning: unused variable 'temp2' [-Wunused-variable]
  double denom, temp, temp2, temp3;
                      ^
optimizer.c:26:30: warning: unused variable 'temp3' [-Wunused-variable]
  double denom, temp, temp2, temp3;
                             ^
optimizer.c:194:69: warning: unused variable 'alphahat' [-Wunused-variable]
  double gammaA[3][3], gammaB[3][3], gammaC[3][3], alpha[3][nrow1], alphahat[3][nrow1], emis_prob[3][nrow1];
                                                                    ^
optimizer.c:195:30: warning: unused variable 'temp3' [-Wunused-variable]
  double denom, temp, temp2, temp3;
                             ^
optimizer.c:195:23: warning: unused variable 'temp2' [-Wunused-variable]
  double denom, temp, temp2, temp3;
                      ^
optimizer.c:195:10: warning: unused variable 'denom' [-Wunused-variable]
  double denom, temp, temp2, temp3;
         ^
optimizer.c:413:23: warning: unused variable 'temp2' [-Wunused-variable]
  double denom, temp, temp2, temp3;
                      ^
optimizer.c:413:30: warning: unused variable 'temp3' [-Wunused-variable]
  double denom, temp, temp2, temp3;
                             ^
optimizer.c:413:10: warning: unused variable 'denom' [-Wunused-variable]
  double denom, temp, temp2, temp3;
         ^
optimizer.c:412:69: warning: unused variable 'alphahat' [-Wunused-variable]
  double gammaA[4][4], gammaB[4][4], gammaC[4][4], alpha[4][nrow1], alphahat[4][nrow1], emis_prob[4][nrow1];
                                                                    ^
optimizer.c:687:30: warning: unused variable 'temp3' [-Wunused-variable]
  double denom, temp, temp2, temp3;
                             ^
optimizer.c:687:23: warning: unused variable 'temp2' [-Wunused-variable]
  double denom, temp, temp2, temp3;
                      ^
optimizer.c:686:69: warning: unused variable 'alphahat' [-Wunused-variable]
  double gammaA[5][5], gammaB[5][5], gammaC[5][5], alpha[5][nrow1], alphahat[5][nrow1], emis_prob[5][nrow1];
                                                                    ^
optimizer.c:687:10: warning: unused variable 'denom' [-Wunused-variable]
  double denom, temp, temp2, temp3;
         ^
15 warnings generated.
clang -mmacosx-version-min=10.13 -dynamiclib -Wl,-headerpad_max_install_names -undefined dynamic_lookup -single_module -multiply_defined suppress -L/Library/Frameworks/R.framework/Resources/lib -L/usr/local/lib -o snapCGH.so optimizer.o -F/Library/Frameworks/R.framework/.. -framework R -Wl,-framework -Wl,CoreFoundation
installing to /Users/biocbuild/bbs-3.16-bioc/meat/snapCGH.buildbin-libdir/00LOCK-snapCGH/00new/snapCGH/libs
** R
** inst
** byte-compile and prepare package for lazy loading
** help
*** installing help indices
** building package indices
** installing vignettes
** testing if installed package can be loaded from temporary location
** checking absolute paths in shared objects and dynamic libraries
** testing if installed package can be loaded from final location
** testing if installed package keeps a record of temporary installation path
* DONE (snapCGH)


>>>>>>> 
>>>>>>> FIXING LINKS FOR snapCGH.buildbin-libdir/snapCGH/libs/snapCGH.so
>>>>>>> 

install_name_tool -change "/usr/local/lib/libgcc_s.1.dylib" "/Library/Frameworks/R.framework/Versions/4.2/Resources/lib/libgcc_s.1.dylib" "snapCGH.buildbin-libdir/snapCGH/libs/snapCGH.so"
install_name_tool -change "/usr/local/lib/libgfortran.5.dylib" "/Library/Frameworks/R.framework/Versions/4.2/Resources/lib/libgfortran.5.dylib" "snapCGH.buildbin-libdir/snapCGH/libs/snapCGH.so"
install_name_tool -change "/usr/local/lib/libquadmath.0.dylib" "/Library/Frameworks/R.framework/Versions/4.2/Resources/lib/libquadmath.0.dylib" "snapCGH.buildbin-libdir/snapCGH/libs/snapCGH.so"