Index of /checkResults/devel/bioc-LATEST/slalom/raw-results/merida1
Name
Last modified
Size
Description
Parent Directory
-
buildsrc-out.txt
21-May-2024 00:37
2.5K
buildsrc-summary.dcf
21-May-2024 00:37
341
install-out.txt
21-May-2024 00:37
2.3K
install-summary.dcf
21-May-2024 00:37
270