Name | Last modified | Size | Description | |
---|---|---|---|---|
Parent Directory | - | |||
install-out.txt | 18-Jul-2024 00:40 | 1.2K | ||
install-summary.dcf | 18-Jul-2024 00:40 | 264 | ||
buildsrc-out.txt | 18-Jul-2024 00:40 | 866 | ||
buildsrc-summary.dcf | 18-Jul-2024 00:40 | 445 | ||
checksrc-out.txt | 18-Jul-2024 00:40 | 4.9K | ||
checksrc-summary.dcf | 18-Jul-2024 00:40 | 439 | ||
buildbin-summary.dcf | 18-Jul-2024 00:40 | 503 | ||
buildbin-out.txt | 18-Jul-2024 00:40 | 1.3K | ||