Name | Last modified | Size | Description | |
---|---|---|---|---|
Parent Directory | - | |||
buildbin-out.txt | 17-Jul-2024 00:41 | 1.3K | ||
buildbin-summary.dcf | 17-Jul-2024 00:41 | 509 | ||
buildsrc-out.txt | 17-Jul-2024 00:41 | 872 | ||
buildsrc-summary.dcf | 17-Jul-2024 00:41 | 451 | ||
checksrc-out.txt | 17-Jul-2024 00:41 | 4.9K | ||
checksrc-summary.dcf | 17-Jul-2024 00:41 | 451 | ||
install-out.txt | 17-Jul-2024 00:41 | 1.2K | ||
install-summary.dcf | 17-Jul-2024 00:41 | 270 | ||