Name | Last modified | Size | Description | |
---|---|---|---|---|
Parent Directory | - | |||
buildsrc-out.txt | 18-Jul-2024 00:39 | 862 | ||
buildsrc-summary.dcf | 18-Jul-2024 00:39 | 418 | ||
checksrc-out.txt | 18-Jul-2024 00:39 | 4.8K | ||
checksrc-summary.dcf | 18-Jul-2024 00:39 | 406 | ||
install-out.txt | 18-Jul-2024 00:39 | 1.2K | ||
install-summary.dcf | 18-Jul-2024 00:39 | 255 | ||