Name | Last modified | Size | Description | |
---|---|---|---|---|
Parent Directory | - | |||
buildbin-summary.dcf | 18-Jul-2024 00:41 | 518 | ||
buildbin-out.txt | 18-Jul-2024 00:41 | 1.4K | ||
checksrc-summary.dcf | 18-Jul-2024 00:41 | 436 | ||
checksrc-out.txt | 18-Jul-2024 00:41 | 4.9K | ||
buildsrc-summary.dcf | 18-Jul-2024 00:41 | 422 | ||
buildsrc-out.txt | 18-Jul-2024 00:41 | 848 | ||
install-summary.dcf | 18-Jul-2024 00:41 | 265 | ||
install-out.txt | 18-Jul-2024 00:41 | 1.2K | ||