Back to Multiple platform build/check report for BioC 3.14
ABCDEFGHIJKLMNOPQR[S]TUVWXYZ

This page was generated on 2021-10-20 12:05:26 -0400 (Wed, 20 Oct 2021).

INSTALL results for singscore on riesling1

To the developers/maintainers of the singscore package:
- Please allow up to 24 hours (and sometimes 48 hours) for your latest push to git@git.bioconductor.org:packages/singscore.git to
reflect on this report. See How and When does the builder pull? When will my changes propagate? here for more information.
- Make sure to use the following settings in order to reproduce any error or warning you see on this page.

raw results

Package 1801/2072HostnameOS / ArchINSTALLBUILDCHECKBUILD BIN
singscore 1.13.1  (landing page)
Dharmesh D. Bhuva
Snapshot Date: 2021-10-19 14:50:04 -0400 (Tue, 19 Oct 2021)
git_url: https://git.bioconductor.org/packages/singscore
git_branch: master
git_last_commit: a892252
git_last_commit_date: 2021-06-01 18:42:35 -0400 (Tue, 01 Jun 2021)
nebbiolo2Linux (Ubuntu 20.04.2 LTS) / x86_64  OK    OK    OK  UNNEEDED, same version is already published
riesling1Windows Server 2019 Standard / x64  OK    OK    OK    OK  UNNEEDED, same version is already published
merida1macOS 10.14.6 Mojave / x86_64  OK    OK    OK    NA  

Summary

Package: singscore
Version: 1.13.1
Command: C:\cygwin\bin\curl.exe -O http://155.52.207.166/BBS/3.14/bioc/src/contrib/singscore_1.13.1.tar.gz && rm -rf singscore.buildbin-libdir && mkdir singscore.buildbin-libdir && D:\biocbuild\bbs-3.14-bioc\R\bin\R.exe CMD INSTALL --merge-multiarch --build --library=singscore.buildbin-libdir singscore_1.13.1.tar.gz && D:\biocbuild\bbs-3.14-bioc\R\bin\R.exe CMD INSTALL singscore_1.13.1.zip && rm singscore_1.13.1.tar.gz singscore_1.13.1.zip
StartedAt: 2021-10-19 18:25:30 -0400 (Tue, 19 Oct 2021)
EndedAt: 2021-10-19 18:28:31 -0400 (Tue, 19 Oct 2021)
EllapsedTime: 180.5 seconds
RetCode: 0
Status:   OK  

Command output

##############################################################################
##############################################################################
###
### Running command:
###
###   C:\cygwin\bin\curl.exe -O http://155.52.207.166/BBS/3.14/bioc/src/contrib/singscore_1.13.1.tar.gz && rm -rf singscore.buildbin-libdir && mkdir singscore.buildbin-libdir && D:\biocbuild\bbs-3.14-bioc\R\bin\R.exe CMD INSTALL --merge-multiarch --build --library=singscore.buildbin-libdir singscore_1.13.1.tar.gz && D:\biocbuild\bbs-3.14-bioc\R\bin\R.exe CMD INSTALL singscore_1.13.1.zip && rm singscore_1.13.1.tar.gz singscore_1.13.1.zip
###
##############################################################################
##############################################################################


  % Total    % Received % Xferd  Average Speed   Time    Time     Time  Current
                                 Dload  Upload   Total   Spent    Left  Speed

  0     0    0     0    0     0      0      0 --:--:-- --:--:-- --:--:--     0
 92 3759k   92 3483k    0     0  4885k      0 --:--:-- --:--:-- --:--:-- 4878k
100 3759k  100 3759k    0     0  5006k      0 --:--:-- --:--:-- --:--:-- 4999k

install for i386

* installing *source* package 'singscore' ...
** using staged installation
It is recommended to use 'given' instead of 'middle'.
It is recommended to use 'given' instead of 'middle'.
** R
** data
*** moving datasets to lazyload DB
** inst
** byte-compile and prepare package for lazy loading
** help
*** installing help indices
  converting help for package 'singscore'
    finding HTML links ... done
    generateNull                            html  
    generateNull_intl                       html  
    getPvals                                html  
    getStableGenes                          html  
    multiScore                              html  
    finding level-2 HTML links ... done

    plotDispersion                          html  
    plotNull                                html  
    plotRankDensity                         html  
    plotRankDensity_intl                    html  
    plotScoreLandscape                      html  
    projectScoreLandscape                   html  
    rankGenes                               html  
    scoredf_ccle_epi                        html  
    scoredf_ccle_mes                        html  
    scoredf_tcga_epi                        html  
    scoredf_tcga_mes                        html  
    simpleScore                             html  
    singscore                               html  
    tgfb_expr_10_se                         html  
    tgfb_gs_dn                              html  
    tgfb_gs_up                              html  
    toy_expr_se                             html  
    toy_gs_dn                               html  
    toy_gs_up                               html  
*** copying figures
** building package indices
** installing vignettes
** testing if installed package can be loaded from temporary location
** testing if installed package can be loaded from final location
** testing if installed package keeps a record of temporary installation path

install for x64

* installing *source* package 'singscore' ...
** testing if installed package can be loaded
* MD5 sums
packaged installation of 'singscore' as singscore_1.13.1.zip
* DONE (singscore)
* installing to library 'D:/biocbuild/bbs-3.14-bioc/R/library'
package 'singscore' successfully unpacked and MD5 sums checked