Back to Multiple platform build/check report for BioC 3.14
ABCDEFGHIJKLMNOPQR[S]TUVWXYZ

This page was generated on 2021-10-22 12:04:44 -0400 (Fri, 22 Oct 2021).

BUILD results for singscore on riesling1

To the developers/maintainers of the singscore package:
- Please allow up to 24 hours (and sometimes 48 hours) for your latest push to git@git.bioconductor.org:packages/singscore.git to
reflect on this report. See How and When does the builder pull? When will my changes propagate? here for more information.
- Make sure to use the following settings in order to reproduce any error or warning you see on this page.

raw results

Package 1803/2075HostnameOS / ArchINSTALLBUILDCHECKBUILD BIN
singscore 1.13.1  (landing page)
Dharmesh D. Bhuva
Snapshot Date: 2021-10-21 14:50:08 -0400 (Thu, 21 Oct 2021)
git_url: https://git.bioconductor.org/packages/singscore
git_branch: master
git_last_commit: a892252
git_last_commit_date: 2021-06-01 18:42:35 -0400 (Tue, 01 Jun 2021)
nebbiolo2Linux (Ubuntu 20.04.2 LTS) / x86_64  OK    OK    OK  UNNEEDED, same version is already published
riesling1Windows Server 2019 Standard / x64  OK    OK    OK    OK  UNNEEDED, same version is already published
merida1macOS 10.14.6 Mojave / x86_64  OK    OK    OK    NA  

Summary

Package: singscore
Version: 1.13.1
Command: chmod a+r singscore -R && D:\biocbuild\bbs-3.14-bioc\R\bin\R.exe CMD build --keep-empty-dirs --no-resave-data singscore
StartedAt: 2021-10-21 23:16:57 -0400 (Thu, 21 Oct 2021)
EndedAt: 2021-10-21 23:20:52 -0400 (Thu, 21 Oct 2021)
EllapsedTime: 235.3 seconds
RetCode: 0
Status:   OK  
PackageFile: singscore_1.13.1.tar.gz
PackageFileSize: 4.162 MiB

Command output

##############################################################################
##############################################################################
###
### Running command:
###
###   chmod a+r singscore -R && D:\biocbuild\bbs-3.14-bioc\R\bin\R.exe CMD build --keep-empty-dirs --no-resave-data singscore
###
##############################################################################
##############################################################################


* checking for file 'singscore/DESCRIPTION' ... OK
* preparing 'singscore':
* checking DESCRIPTION meta-information ...It is recommended to use 'given' instead of 'middle'.
 OK
* installing the package to build vignettes
* creating vignettes ... OK
It is recommended to use 'given' instead of 'middle'.
* checking for LF line-endings in source and make files and shell scripts
* checking for empty or unneeded directories
* building 'singscore_1.13.1.tar.gz'