Name | Last modified | Size | Description | |
---|---|---|---|---|
Parent Directory | - | |||
buildbin-out.txt | 27-Jul-2024 00:40 | 1.3K | ||
buildbin-summary.dcf | 27-Jul-2024 00:40 | 527 | ||
buildsrc-out.txt | 27-Jul-2024 00:40 | 1.1K | ||
buildsrc-summary.dcf | 27-Jul-2024 00:40 | 460 | ||
checksrc-out.txt | 27-Jul-2024 00:40 | 4.6K | ||
checksrc-summary.dcf | 27-Jul-2024 00:40 | 455 | ||
install-out.txt | 27-Jul-2024 00:40 | 1.3K | ||
install-summary.dcf | 27-Jul-2024 00:40 | 272 | ||