Index of /checkResults/devel/bioc-LATEST/singscore/raw-results/palomino3

[ICO]NameLast modifiedSizeDescription

[DIR]Parent Directory  -  
[TXT]buildbin-out.txt28-Jan-2023 01:08 1.3K 
[   ]buildbin-summary.dcf28-Jan-2023 01:08 525  
[TXT]buildsrc-out.txt29-Jan-2023 01:07 1.1K 
[   ]buildsrc-summary.dcf29-Jan-2023 01:07 460  
[TXT]checksrc-out.txt29-Jan-2023 01:07 4.7K 
[   ]checksrc-summary.dcf29-Jan-2023 01:07 455  
[TXT]install-out.txt29-Jan-2023 01:07 1.3K 
[   ]install-summary.dcf29-Jan-2023 01:07 272