Name | Last modified | Size | Description | |
---|---|---|---|---|
Parent Directory | - | |||
install-summary.dcf | 29-Mar-2024 00:37 | 263 | ||
install-out.txt | 29-Mar-2024 00:37 | 1.3K | ||
checksrc-summary.dcf | 29-Mar-2024 00:37 | 422 | ||
checksrc-out.txt | 29-Mar-2024 00:37 | 4.7K | ||
buildsrc-summary.dcf | 29-Mar-2024 00:37 | 423 | ||
buildsrc-out.txt | 29-Mar-2024 00:37 | 1.1K | ||