Index of /checkResults/devel/bioc-LATEST/singscore/raw-results/nebbiolo1

[ICO]NameLast modifiedSizeDescription

[DIR]Parent Directory  -  
[TXT]buildsrc-out.txt27-Jan-2022 01:06 938  
[   ]buildsrc-summary.dcf27-Jan-2022 01:06 423  
[TXT]checksrc-out.txt27-Jan-2022 01:06 4.5K 
[   ]checksrc-summary.dcf27-Jan-2022 01:06 432  
[TXT]install-out.txt27-Jan-2022 01:06 1.1K 
[   ]install-summary.dcf27-Jan-2022 01:06 263