Index of /checkResults/devel/bioc-LATEST/singscore/raw-results/merida1

[ICO]NameLast modifiedSizeDescription

[DIR]Parent Directory  -  
[TXT]buildbin-out.txt29-Jan-2023 01:09 1.4K 
[   ]buildbin-summary.dcf29-Jan-2023 01:09 543  
[TXT]buildsrc-out.txt29-Jan-2023 01:09 1.1K 
[   ]buildsrc-summary.dcf29-Jan-2023 01:09 434  
[TXT]checksrc-out.txt29-Jan-2023 01:09 4.8K 
[   ]checksrc-summary.dcf29-Jan-2023 01:09 452  
[TXT]install-out.txt29-Jan-2023 01:09 1.3K 
[   ]install-summary.dcf29-Jan-2023 01:09 273