Back to Multiple platform build/check report for BioC 3.14
ABCDEFGHIJKLMNOPQR[S]TUVWXYZ

This page was generated on 2021-10-23 14:06:46 -0400 (Sat, 23 Oct 2021).

BUILD results for singleCellTK on riesling1

To the developers/maintainers of the singleCellTK package:
- Please allow up to 24 hours (and sometimes 48 hours) for your latest push to git@git.bioconductor.org:packages/singleCellTK.git to
reflect on this report. See How and When does the builder pull? When will my changes propagate? here for more information.
- Make sure to use the following settings in order to reproduce any error or warning you see on this page.

raw results

Package 1807/2083HostnameOS / ArchINSTALLBUILDCHECKBUILD BIN
singleCellTK 2.3.1  (landing page)
Yichen Wang
Snapshot Date: 2021-10-22 14:50:11 -0400 (Fri, 22 Oct 2021)
git_url: https://git.bioconductor.org/packages/singleCellTK
git_branch: master
git_last_commit: fd2ca2e
git_last_commit_date: 2021-10-17 15:51:44 -0400 (Sun, 17 Oct 2021)
nebbiolo2Linux (Ubuntu 20.04.2 LTS) / x86_64  OK    OK    OK  UNNEEDED, same version is already published
riesling1Windows Server 2019 Standard / x64  OK    OK    OK    OK  UNNEEDED, same version is already published
merida1macOS 10.14.6 Mojave / x86_64  OK    OK    OK    OK  YES

Summary

Package: singleCellTK
Version: 2.3.1
Command: chmod a+r singleCellTK -R && D:\biocbuild\bbs-3.14-bioc\R\bin\R.exe CMD build --keep-empty-dirs --no-resave-data singleCellTK
StartedAt: 2021-10-23 01:43:10 -0400 (Sat, 23 Oct 2021)
EndedAt: 2021-10-23 01:58:10 -0400 (Sat, 23 Oct 2021)
EllapsedTime: 899.5 seconds
RetCode: 0
Status:   OK  
PackageFile: singleCellTK_2.3.1.tar.gz
PackageFileSize: 3.2 MiB

Command output

##############################################################################
##############################################################################
###
### Running command:
###
###   chmod a+r singleCellTK -R && D:\biocbuild\bbs-3.14-bioc\R\bin\R.exe CMD build --keep-empty-dirs --no-resave-data singleCellTK
###
##############################################################################
##############################################################################


* checking for file 'singleCellTK/DESCRIPTION' ... OK
* preparing 'singleCellTK':
* checking DESCRIPTION meta-information ... OK
* installing the package to build vignettes
* creating vignettes ... OK
* checking for LF line-endings in source and make files and shell scripts
* checking for empty or unneeded directories
* building 'singleCellTK_2.3.1.tar.gz'