Back to Multiple platform build/check report for BioC 3.15
ABCDEFGHIJKLMNOPQR[S]TUVWXYZ

This page was generated on 2022-01-24 11:08:27 -0500 (Mon, 24 Jan 2022).

HostnameOSArch (*)R versionInstalled pkgs
nebbiolo1Linux (Ubuntu 20.04.4 LTS)x86_64R Under development (unstable) (2022-01-05 r81451) -- "Unsuffered Consequences" 4163
riesling1Windows Server 2019 Standardx64R Under development (unstable) (2021-11-21 r81221) -- "Unsuffered Consequences" 4058
palomino3Windows Server 2022 Datacenterx64R Under development (unstable) (2021-12-21 r81400 ucrt) -- "Unsuffered Consequences" 4000
merida1macOS 10.14.6 Mojavex86_64R Under development (unstable) (2022-01-05 r81451) -- "Unsuffered Consequences" 4117
Click on any hostname to see more info about the system (e.g. compilers)      (*) as reported by 'uname -p', except on Windows and Mac OS X

BUILD BIN results for simplifyEnrichment on riesling1


To the developers/maintainers of the simplifyEnrichment package:
- Please allow up to 24 hours (and sometimes 48 hours) for your latest push to git@git.bioconductor.org:packages/simplifyEnrichment.git to
reflect on this report. See How and When does the builder pull? When will my changes propagate? here for more information.
- Make sure to use the following settings in order to reproduce any error or warning you see on this page.

raw results

Package 1798/2075HostnameOS / ArchINSTALLBUILDCHECKBUILD BIN
simplifyEnrichment 1.5.2  (landing page)
Zuguang Gu
Snapshot Date: 2022-01-23 13:55:15 -0500 (Sun, 23 Jan 2022)
git_url: https://git.bioconductor.org/packages/simplifyEnrichment
git_branch: master
git_last_commit: 75f5d20
git_last_commit_date: 2021-12-01 17:19:09 -0500 (Wed, 01 Dec 2021)
nebbiolo1Linux (Ubuntu 20.04.4 LTS) / x86_64  OK    OK    WARNINGS  UNNEEDED, same version is already published
riesling1Windows Server 2019 Standard / x64  OK    OK    WARNINGS    OK  
palomino3Windows Server 2022 Datacenter / x64  OK    OK    WARNINGS    OK  NO, package depends on 'BiocGenerics' which is not available
merida1macOS 10.14.6 Mojave / x86_64  OK    OK    WARNINGS    OK  UNNEEDED, same version is already published

Summary

Package: simplifyEnrichment
Version: 1.5.2
Command: rm -rf simplifyEnrichment.buildbin-libdir && mkdir simplifyEnrichment.buildbin-libdir && D:\biocbuild\bbs-3.15-bioc\R\bin\R.exe CMD INSTALL --build --library=simplifyEnrichment.buildbin-libdir simplifyEnrichment_1.5.2.tar.gz
StartedAt: 2022-01-23 21:21:58 -0500 (Sun, 23 Jan 2022)
EndedAt: 2022-01-23 21:23:05 -0500 (Sun, 23 Jan 2022)
EllapsedTime: 67.2 seconds
RetCode: 0
Status:   OK  
PackageFile: simplifyEnrichment_1.5.2.zip
PackageFileSize: 6.99 MiB

Command output

##############################################################################
##############################################################################
###
### Running command:
###
###   rm -rf simplifyEnrichment.buildbin-libdir && mkdir simplifyEnrichment.buildbin-libdir && D:\biocbuild\bbs-3.15-bioc\R\bin\R.exe CMD INSTALL --build --library=simplifyEnrichment.buildbin-libdir simplifyEnrichment_1.5.2.tar.gz
###
##############################################################################
##############################################################################


* installing *source* package 'simplifyEnrichment' ...
** using staged installation
** R
** inst
** byte-compile and prepare package for lazy loading
** help
*** installing help indices
  converting help for package 'simplifyEnrichment'
    finding HTML links ... done
    DO_similarity                           html  
    GO_similarity                           html  
    all_clustering_methods                  html  
    anno_word_cloud                         html  
    anno_word_cloud_from_GO                 html  
    area_above_ecdf                         html  
    binary_cut                              html  
    cluster_by_MCL                          html  
    cluster_by_apcluster                    html  
    cluster_by_dynamicTreeCut               html  
    cluster_by_hdbscan                      html  
    cluster_by_igraph                       html  
    cluster_by_kmeans                       html  
    cluster_by_mclust                       html  
    cluster_by_pam                          html  
    cluster_terms                           html  
    cmp_make_clusters                       html  
    cmp_make_plot                           html  
    compare_clustering_methods              html  
    count_words                             html  
    dend_node_apply                         html  
    difference_score                        html  
    edit_node                               html  
    export_to_shiny_app                     html  
    guess_ont                               html  
    heightDetails.word_cloud                html  
    ht_clusters                             html  
    keyword_enrichment_from_GO              html  
    partition_by_hclust                     html  
    partition_by_kmeans                     html  
    partition_by_kmeanspp                   html  
    partition_by_pam                        html  
    plot_binary_cut                         html  
    random_DO                               html  
    random_GO                               html  
    register_clustering_methods             html  
    remove_clustering_methods               html  
    reset_clustering_methods                html  
    scale_fontsize                          html  
    se_opt                                  html  
    select_cutoff                           html  
    simplifyEnrichment                      html  
    simplifyGO                              html  
    simplifyGOFromMultipleLists             html  
    subset_enrichResult                     html  
    term_similarity                         html  
    term_similarity_from_KEGG               html  
    term_similarity_from_MSigDB             html  
    term_similarity_from_Reactome           html  
    term_similarity_from_enrichResult       html  
    term_similarity_from_gmt                html  
    widthDetails.word_cloud                 html  
    word_cloud_grob                         html  
** building package indices
** installing vignettes
** testing if installed package can be loaded from temporary location
** testing if installed package can be loaded from final location
** testing if installed package keeps a record of temporary installation path
* MD5 sums
packaged installation of 'simplifyEnrichment' as simplifyEnrichment_1.5.2.zip
* DONE (simplifyEnrichment)