Index of /checkResults/devel/bioc-LATEST/simplifyEnrichment/raw-results/palomino4

[ICO]NameLast modifiedSizeDescription

[DIR]Parent Directory  -  
[TXT]buildbin-out.txt03-Oct-2023 00:38 1.2K 
[   ]buildbin-summary.dcf03-Oct-2023 00:38 581  
[TXT]buildsrc-out.txt03-Oct-2023 00:38 894  
[   ]buildsrc-summary.dcf03-Oct-2023 00:38 497  
[TXT]checksrc-out.txt03-Oct-2023 00:38 3.4K 
[   ]checksrc-summary.dcf03-Oct-2023 00:38 491  
[TXT]install-out.txt03-Oct-2023 00:38 1.0K 
[   ]install-summary.dcf03-Oct-2023 00:38 290