![]() | Name | Last modified | Size | Description |
---|---|---|---|---|
![]() | Parent Directory | - | ||
![]() | buildsrc-out.txt | 03-Oct-2023 00:36 | 850 | |
![]() | buildsrc-summary.dcf | 03-Oct-2023 00:36 | 451 | |
![]() | checksrc-out.txt | 03-Oct-2023 00:36 | 3.6K | |
![]() | checksrc-summary.dcf | 03-Oct-2023 00:36 | 458 | |
![]() | install-out.txt | 03-Oct-2023 00:36 | 1.0K | |
![]() | install-summary.dcf | 03-Oct-2023 00:36 | 281 | |