Index of /checkResults/devel/bioc-LATEST/simplifyEnrichment/raw-results
Name
Last modified
Size
Description
Parent Directory
-
kunpeng2/
03-Oct-2023 00:40
-
lconway/
03-Oct-2023 00:39
-
nebbiolo2/
03-Oct-2023 00:36
-
palomino4/
03-Oct-2023 00:38
-
info.dcf
03-Oct-2023 00:40
276