![]() | Name | Last modified | Size | Description |
---|---|---|---|---|
![]() | Parent Directory | - | ||
![]() | buildbin-out.txt | 22-Sep-2023 00:38 | 3.2K | |
![]() | buildbin-summary.dcf | 22-Sep-2023 00:38 | 507 | |
![]() | buildsrc-out.txt | 22-Sep-2023 00:38 | 898 | |
![]() | buildsrc-summary.dcf | 22-Sep-2023 00:38 | 447 | |
![]() | checksrc-out.txt | 22-Sep-2023 00:38 | 7.7K | |
![]() | checksrc-summary.dcf | 22-Sep-2023 00:38 | 441 | |
![]() | install-out.txt | 22-Sep-2023 00:38 | 3.1K | |
![]() | install-summary.dcf | 22-Sep-2023 00:38 | 266 | |