![]() | Name | Last modified | Size | Description |
---|---|---|---|---|
![]() | Parent Directory | - | ||
![]() | buildsrc-out.txt | 22-Sep-2023 00:37 | 863 | |
![]() | buildsrc-summary.dcf | 22-Sep-2023 00:37 | 413 | |
![]() | checksrc-out.txt | 22-Sep-2023 00:37 | 7.3K | |
![]() | checksrc-summary.dcf | 22-Sep-2023 00:37 | 408 | |
![]() | install-out.txt | 22-Sep-2023 00:37 | 2.9K | |
![]() | install-summary.dcf | 22-Sep-2023 00:37 | 256 | |