![]() | Name | Last modified | Size | Description |
---|---|---|---|---|
![]() | Parent Directory | - | ||
![]() | buildbin-out.txt | 22-Sep-2023 00:40 | 6.9K | |
![]() | buildbin-summary.dcf | 22-Sep-2023 00:40 | 522 | |
![]() | buildsrc-out.txt | 22-Sep-2023 00:40 | 873 | |
![]() | buildsrc-summary.dcf | 22-Sep-2023 00:40 | 423 | |
![]() | checksrc-out.txt | 22-Sep-2023 00:40 | 7.3K | |
![]() | checksrc-summary.dcf | 22-Sep-2023 00:40 | 438 | |
![]() | install-out.txt | 22-Sep-2023 00:40 | 3.4K | |
![]() | install-summary.dcf | 22-Sep-2023 00:40 | 267 | |