![]() | Name | Last modified | Size | Description |
---|---|---|---|---|
![]() | Parent Directory | - | ||
![]() | buildsrc-out.txt | 02-Dec-2023 01:39 | 872 | |
![]() | buildsrc-summary.dcf | 02-Dec-2023 01:39 | 421 | |
![]() | checksrc-out.txt | 02-Dec-2023 01:39 | 7.4K | |
![]() | checksrc-summary.dcf | 02-Dec-2023 01:39 | 441 | |
![]() | install-out.txt | 02-Dec-2023 01:39 | 2.9K | |
![]() | install-summary.dcf | 02-Dec-2023 01:39 | 266 | |