![]() | Name | Last modified | Size | Description |
---|---|---|---|---|
![]() | Parent Directory | - | ||
![]() | buildsrc-out.txt | 03-Oct-2023 00:40 | 857 | |
![]() | buildsrc-summary.dcf | 03-Oct-2023 00:40 | 407 | |
![]() | checksrc-out.txt | 03-Oct-2023 00:40 | 7.3K | |
![]() | checksrc-summary.dcf | 03-Oct-2023 00:40 | 396 | |
![]() | install-out.txt | 03-Oct-2023 00:40 | 2.7K | |
![]() | install-summary.dcf | 03-Oct-2023 00:40 | 251 | |