Name | Last modified | Size | Description | |
---|---|---|---|---|
Parent Directory | - | |||
install-summary.dcf | 29-Jun-2024 00:41 | 266 | ||
buildsrc-summary.dcf | 29-Jun-2024 00:41 | 422 | ||
checksrc-summary.dcf | 29-Jun-2024 00:41 | 438 | ||
buildbin-summary.dcf | 29-Jun-2024 00:41 | 521 | ||
buildsrc-out.txt | 29-Jun-2024 00:41 | 873 | ||
install-out.txt | 29-Jun-2024 00:41 | 3.4K | ||
buildbin-out.txt | 29-Jun-2024 00:41 | 6.9K | ||
checksrc-out.txt | 29-Jun-2024 00:41 | 7.1K | ||