Index of /checkResults/devel/bioc-LATEST/signeR/raw-results/kjohnson3

[ICO]NameLast modifiedSizeDescription

[DIR]Parent Directory  -  
[TXT]buildbin-out.txt17-Jul-2024 00:44 6.9K 
[   ]buildbin-summary.dcf17-Jul-2024 00:44 521  
[TXT]buildsrc-out.txt17-Jul-2024 00:44 873  
[   ]buildsrc-summary.dcf17-Jul-2024 00:44 422  
[TXT]checksrc-out.txt17-Jul-2024 00:44 7.1K 
[   ]checksrc-summary.dcf17-Jul-2024 00:44 438  
[TXT]install-out.txt17-Jul-2024 00:44 3.4K 
[   ]install-summary.dcf17-Jul-2024 00:44 266