Index of /checkResults/devel/bioc-LATEST/signeR/raw-results

[ICO]NameLast modifiedSizeDescription

[DIR]Parent Directory  -  
[   ]info.dcf23-Sep-2023 00:41 274  
[DIR]palomino4/23-Sep-2023 00:38 -  
[DIR]nebbiolo2/23-Sep-2023 00:37 -  
[DIR]lconway/23-Sep-2023 00:39 -  
[DIR]kunpeng2/23-Sep-2023 00:41 -