Name | Last modified | Size | Description | |
---|---|---|---|---|
Parent Directory | - | |||
buildbin-out.txt | 30-Apr-2024 00:38 | 2.8K | ||
buildbin-summary.dcf | 30-Apr-2024 00:38 | 564 | ||
buildsrc-out.txt | 30-Apr-2024 00:38 | 971 | ||
buildsrc-summary.dcf | 30-Apr-2024 00:38 | 485 | ||
checksrc-out.txt | 30-Apr-2024 00:38 | 4.7K | ||
checksrc-summary.dcf | 30-Apr-2024 00:38 | 479 | ||
install-out.txt | 30-Apr-2024 00:38 | 2.6K | ||
install-summary.dcf | 30-Apr-2024 00:38 | 285 | ||