Name | Last modified | Size | Description | |
---|---|---|---|---|
Parent Directory | - | |||
buildbin-out.txt | 12-Jun-2024 04:42 | 4.8K | ||
buildbin-summary.dcf | 12-Jun-2024 04:42 | 579 | ||
buildsrc-out.txt | 12-Jun-2024 04:42 | 941 | ||
buildsrc-summary.dcf | 12-Jun-2024 04:42 | 453 | ||
checksrc-out.txt | 12-Jun-2024 04:42 | 4.3K | ||
checksrc-summary.dcf | 12-Jun-2024 04:42 | 477 | ||
install-out.txt | 12-Jun-2024 04:42 | 2.5K | ||
install-summary.dcf | 12-Jun-2024 04:42 | 286 | ||