Name | Last modified | Size | Description | |
---|---|---|---|---|
Parent Directory | - | |||
buildbin-out.txt | 05-Mar-2024 01:39 | 4.8K | ||
buildbin-summary.dcf | 05-Mar-2024 01:39 | 579 | ||
buildsrc-out.txt | 05-Mar-2024 01:39 | 941 | ||
buildsrc-summary.dcf | 05-Mar-2024 01:39 | 453 | ||
checksrc-out.txt | 05-Mar-2024 01:39 | 4.3K | ||
checksrc-summary.dcf | 05-Mar-2024 01:39 | 477 | ||
install-out.txt | 05-Mar-2024 01:39 | 2.5K | ||
install-summary.dcf | 05-Mar-2024 01:39 | 286 | ||