Name | Last modified | Size | Description | |
---|---|---|---|---|
Parent Directory | - | |||
buildbin-out.txt | 29-Mar-2024 00:40 | 4.8K | ||
buildbin-summary.dcf | 29-Mar-2024 00:40 | 579 | ||
buildsrc-out.txt | 29-Mar-2024 00:40 | 941 | ||
buildsrc-summary.dcf | 29-Mar-2024 00:40 | 452 | ||
checksrc-out.txt | 29-Mar-2024 00:40 | 4.3K | ||
checksrc-summary.dcf | 29-Mar-2024 00:40 | 476 | ||
install-out.txt | 29-Mar-2024 00:40 | 2.6K | ||
install-summary.dcf | 29-Mar-2024 00:40 | 286 | ||