Index of /checkResults/devel/bioc-LATEST/siggenes/raw-results/nebbiolo2

[ICO]NameLast modifiedSizeDescription

[DIR]Parent Directory  -  
[TXT]buildsrc-out.txt20-Aug-2022 01:11 971  
[   ]buildsrc-summary.dcf20-Aug-2022 01:11 420  
[TXT]checksrc-out.txt20-Aug-2022 01:11 3.3K 
[   ]checksrc-summary.dcf20-Aug-2022 01:11 427  
[TXT]install-out.txt20-Aug-2022 01:11 950  
[   ]install-summary.dcf20-Aug-2022 01:11 261