Index of /checkResults/devel/bioc-LATEST/siggenes/raw-results/nebbiolo2

[ICO]NameLast modifiedSizeDescription

[DIR]Parent Directory  -  
[TXT]buildsrc-out.txt02-Jul-2022 00:05 971  
[   ]buildsrc-summary.dcf02-Jul-2022 00:05 420  
[TXT]checksrc-out.txt02-Jul-2022 00:05 3.3K 
[   ]checksrc-summary.dcf02-Jul-2022 00:05 427  
[TXT]install-out.txt02-Jul-2022 00:05 950  
[   ]install-summary.dcf02-Jul-2022 00:05 261