Index of /checkResults/devel/bioc-LATEST/siggenes/raw-results/lconway

[ICO]NameLast modifiedSizeDescription

[DIR]Parent Directory  -  
[TXT]buildbin-out.txt02-Jul-2022 00:08 1.2K 
[   ]buildbin-summary.dcf02-Jul-2022 00:08 536  
[TXT]buildsrc-out.txt02-Jul-2022 00:08 1.0K 
[   ]buildsrc-summary.dcf02-Jul-2022 00:08 430  
[TXT]checksrc-out.txt02-Jul-2022 00:08 3.4K 
[   ]checksrc-summary.dcf02-Jul-2022 00:08 447  
[TXT]install-out.txt02-Jul-2022 00:08 1.0K 
[   ]install-summary.dcf02-Jul-2022 00:08 271