Index of /checkResults/devel/bioc-LATEST/sesame/raw-results/palomino3

[ICO]NameLast modifiedSizeDescription

[DIR]Parent Directory  -  
[TXT]buildbin-out.txt29-Mar-2024 00:38 1.1K 
[   ]buildbin-summary.dcf29-Mar-2024 00:38 512  
[TXT]buildsrc-out.txt29-Mar-2024 00:38 835  
[   ]buildsrc-summary.dcf29-Mar-2024 00:38 451  
[TXT]checksrc-out.txt29-Mar-2024 00:38 5.5K 
[   ]checksrc-summary.dcf29-Mar-2024 00:38 446  
[TXT]install-out.txt29-Mar-2024 00:38 959  
[   ]install-summary.dcf29-Mar-2024 00:38 267