Index of /checkResults/devel/bioc-LATEST/sesame/raw-results/nebbiolo1

[ICO]NameLast modifiedSizeDescription

[DIR]Parent Directory  -  
[TXT]buildsrc-out.txt29-Mar-2024 00:37 803  
[   ]buildsrc-summary.dcf29-Mar-2024 00:37 417  
[TXT]checksrc-out.txt29-Mar-2024 00:37 5.0K 
[   ]checksrc-summary.dcf29-Mar-2024 00:37 413  
[TXT]install-out.txt29-Mar-2024 00:37 949  
[   ]install-summary.dcf29-Mar-2024 00:37 258