Back to Multiple platform build/check report for BioC 3.17:   simplified   long
ABCDEFGHIJKLMNOPQR[S]TUVWXYZ

This page was generated on 2023-03-23 11:06:21 -0400 (Thu, 23 Mar 2023).

HostnameOSArch (*)R versionInstalled pkgs
nebbiolo1Linux (Ubuntu 22.04.1 LTS)x86_64R Under development (unstable) (2023-03-16 r83996) -- "Unsuffered Consequences" 4536
palomino3Windows Server 2022 Datacenterx64R Under development (unstable) (2023-03-15 r83984 ucrt) -- "Unsuffered Consequences" 4298
merida1macOS 10.14.6 Mojavex86_64R Under development (unstable) (2023-03-16 r83985) -- "Unsuffered Consequences" 4290
Click on any hostname to see more info about the system (e.g. compilers)      (*) as reported by 'uname -p', except on Windows and Mac OS X

BUILD results for sesame on palomino3


To the developers/maintainers of the sesame package:
- Please allow up to 24 hours (and sometimes 48 hours) for your latest push to git@git.bioconductor.org:packages/sesame.git to
reflect on this report. See How and When does the builder pull? When will my changes propagate? for more information.
- Make sure to use the following settings in order to reproduce any error or warning you see on this page.

raw results

Package 1863/2189HostnameOS / ArchINSTALLBUILDCHECKBUILD BIN
sesame 1.17.7  (landing page)
Wanding Zhou
Snapshot Date: 2023-03-22 14:00:17 -0400 (Wed, 22 Mar 2023)
git_url: https://git.bioconductor.org/packages/sesame
git_branch: devel
git_last_commit: 3acb743
git_last_commit_date: 2023-01-28 12:04:42 -0400 (Sat, 28 Jan 2023)
nebbiolo1Linux (Ubuntu 22.04.1 LTS) / x86_64  OK    OK    OK  UNNEEDED, same version is already published
palomino3Windows Server 2022 Datacenter / x64  OK    OK    OK    OK  UNNEEDED, same version is already published
merida1macOS 10.14.6 Mojave / x86_64  OK    OK    OK    OK  UNNEEDED, same version is already published

Summary

Package: sesame
Version: 1.17.7
Command: chmod a+r sesame -R && F:\biocbuild\bbs-3.17-bioc\R\bin\R.exe CMD build --keep-empty-dirs --no-resave-data sesame
StartedAt: 2023-03-22 23:08:22 -0400 (Wed, 22 Mar 2023)
EndedAt: 2023-03-22 23:14:07 -0400 (Wed, 22 Mar 2023)
EllapsedTime: 345.1 seconds
RetCode: 0
Status:   OK  
PackageFile: sesame_1.17.7.tar.gz
PackageFileSize: 15.31 MiB

Command output

##############################################################################
##############################################################################
###
### Running command:
###
###   chmod a+r sesame -R && F:\biocbuild\bbs-3.17-bioc\R\bin\R.exe CMD build --keep-empty-dirs --no-resave-data sesame
###
##############################################################################
##############################################################################


* checking for file 'sesame/DESCRIPTION' ... OK
* preparing 'sesame':
* checking DESCRIPTION meta-information ... OK
* installing the package to build vignettes
* creating vignettes ... OK
* checking for LF line-endings in source and make files and shell scripts
* checking for empty or unneeded directories
* building 'sesame_1.17.7.tar.gz'