Back to Multiple platform build/check report for BioC 3.19: simplified long |
|
This page was generated on 2024-03-28 11:37:05 -0400 (Thu, 28 Mar 2024).
Hostname | OS | Arch (*) | R version | Installed pkgs |
---|---|---|---|---|
nebbiolo1 | Linux (Ubuntu 22.04.3 LTS) | x86_64 | R Under development (unstable) (2024-03-18 r86148) -- "Unsuffered Consequences" | 4708 |
palomino3 | Windows Server 2022 Datacenter | x64 | R Under development (unstable) (2024-03-16 r86144 ucrt) -- "Unsuffered Consequences" | 4446 |
lconway | macOS 12.7.1 Monterey | x86_64 | R Under development (unstable) (2024-03-18 r86148) -- "Unsuffered Consequences" | 4471 |
kunpeng2 | Linux (openEuler 22.03 LTS-SP1) | aarch64 | R Under development (unstable) (2024-03-19 r86153) -- "Unsuffered Consequences" | 4426 |
Click on any hostname to see more info about the system (e.g. compilers) (*) as reported by 'uname -p', except on Windows and Mac OS X |
Package 1929/2270 | Hostname | OS / Arch | INSTALL | BUILD | CHECK | BUILD BIN | ||||||||
sesame 1.21.15 (landing page) Wanding Zhou
| nebbiolo1 | Linux (Ubuntu 22.04.3 LTS) / x86_64 | OK | OK | OK | |||||||||
palomino3 | Windows Server 2022 Datacenter / x64 | OK | OK | OK | OK | |||||||||
lconway | macOS 12.7.1 Monterey / x86_64 | OK | OK | OK | OK | |||||||||
kunpeng2 | Linux (openEuler 22.03 LTS-SP1) / aarch64 | OK | OK | OK | ||||||||||
To the developers/maintainers of the sesame package: - Allow up to 24 hours (and sometimes 48 hours) for your latest push to git@git.bioconductor.org:packages/sesame.git to reflect on this report. See Troubleshooting Build Report for more information. - Use the following Renviron settings to reproduce errors and warnings. - If 'R CMD check' started to fail recently on the Linux builder(s) over a missing dependency, add the missing dependency to 'Suggests:' in your DESCRIPTION file. See Renviron.bioc for more information. |
Package: sesame |
Version: 1.21.15 |
Command: /home/biocbuild/bbs-3.19-bioc/R/bin/R CMD check --install=check:sesame.install-out.txt --library=/home/biocbuild/bbs-3.19-bioc/R/site-library --timings sesame_1.21.15.tar.gz |
StartedAt: 2024-03-28 02:40:51 -0400 (Thu, 28 Mar 2024) |
EndedAt: 2024-03-28 03:00:37 -0400 (Thu, 28 Mar 2024) |
EllapsedTime: 1185.7 seconds |
RetCode: 0 |
Status: OK |
CheckDir: sesame.Rcheck |
Warnings: 0 |
############################################################################## ############################################################################## ### ### Running command: ### ### /home/biocbuild/bbs-3.19-bioc/R/bin/R CMD check --install=check:sesame.install-out.txt --library=/home/biocbuild/bbs-3.19-bioc/R/site-library --timings sesame_1.21.15.tar.gz ### ############################################################################## ############################################################################## * using log directory ‘/home/biocbuild/bbs-3.19-bioc/meat/sesame.Rcheck’ * using R Under development (unstable) (2024-03-18 r86148) * using platform: x86_64-pc-linux-gnu * R was compiled by gcc (Ubuntu 11.4.0-1ubuntu1~22.04) 11.4.0 GNU Fortran (Ubuntu 11.4.0-1ubuntu1~22.04) 11.4.0 * running under: Ubuntu 22.04.4 LTS * using session charset: UTF-8 * checking for file ‘sesame/DESCRIPTION’ ... OK * checking extension type ... Package * this is package ‘sesame’ version ‘1.21.15’ * package encoding: UTF-8 * checking package namespace information ... OK * checking package dependencies ... OK * checking if this is a source package ... OK * checking if there is a namespace ... OK * checking for hidden files and directories ... OK * checking for portable file names ... OK * checking for sufficient/correct file permissions ... OK * checking whether package ‘sesame’ can be installed ... OK * checking installed package size ... OK * checking package directory ... OK * checking ‘build’ directory ... OK * checking DESCRIPTION meta-information ... OK * checking top-level files ... OK * checking for left-over files ... OK * checking index information ... OK * checking package subdirectories ... OK * checking code files for non-ASCII characters ... OK * checking R files for syntax errors ... OK * checking whether the package can be loaded ... OK * checking whether the package can be loaded with stated dependencies ... OK * checking whether the package can be unloaded cleanly ... OK * checking whether the namespace can be loaded with stated dependencies ... OK * checking whether the namespace can be unloaded cleanly ... OK * checking loading without being on the library search path ... OK * checking whether startup messages can be suppressed ... OK * checking dependencies in R code ... OK * checking S3 generic/method consistency ... OK * checking replacement functions ... OK * checking foreign function calls ... OK * checking R code for possible problems ... OK * checking Rd files ... OK * checking Rd metadata ... OK * checking Rd cross-references ... OK * checking for missing documentation entries ... OK * checking for code/documentation mismatches ... OK * checking Rd \usage sections ... OK * checking Rd contents ... OK * checking for unstated dependencies in examples ... OK * checking files in ‘vignettes’ ... OK * checking examples ... OK Examples with CPU (user + system) or elapsed time > 5s user system elapsed testEnrichmentGene 99.813 3.224 106.270 inferSex 34.056 0.769 35.370 KYCG_plotMeta 21.220 0.408 22.111 KYCG_plotEnrichAll 17.910 0.720 19.831 inferSpecies 17.448 1.007 18.966 sesameQC_plotHeatSNPs 18.215 0.188 18.561 sesameQC_calcStats 18.052 0.172 18.381 ELBAR 14.522 0.376 15.058 matchDesign 13.443 0.196 13.797 KYCG_annoProbes 12.977 0.548 14.013 diffRefSet 12.970 0.268 13.558 sesameQC_plotBar 12.452 0.372 13.186 compareMouseStrainReference 10.983 0.212 11.551 KYCG_buildGeneDBs 10.470 0.528 11.317 getRefSet 10.540 0.336 11.231 KYCG_plotMetaEnrichment 10.407 0.280 11.161 compareReference 10.512 0.148 10.979 sesameQC_plotBetaByDesign 9.662 0.136 9.798 visualizeGene 9.241 0.344 9.965 testEnrichmentSEA 8.971 0.293 9.735 sdf_read_table 8.472 0.196 8.893 DMR 7.862 0.308 8.485 inferStrain 7.357 0.408 8.123 DML 6.513 0.356 7.646 inferTissue 6.590 0.212 7.117 estimateLeukocyte 6.292 0.144 6.753 dbStats 6.018 0.364 6.702 dyeBiasCorrMostBalanced 5.875 0.183 6.376 testEnrichment 5.705 0.345 6.573 dyeBiasNL 5.632 0.140 5.928 createUCSCtrack 5.449 0.188 5.954 deidentify 5.398 0.160 5.875 probeSuccessRate 5.281 0.224 6.017 openSesame 5.189 0.148 5.558 KYCG_plotSetEnrichment 4.886 0.148 5.352 getMask 4.644 0.208 5.329 * checking for unstated dependencies in ‘tests’ ... OK * checking tests ... Running ‘testthat.R’ OK * checking for unstated dependencies in vignettes ... OK * checking package vignettes ... OK * checking re-building of vignette outputs ... OK * checking PDF version of manual ... OK * DONE Status: OK
sesame.Rcheck/00install.out
############################################################################## ############################################################################## ### ### Running command: ### ### /home/biocbuild/bbs-3.19-bioc/R/bin/R CMD INSTALL sesame ### ############################################################################## ############################################################################## * installing to library ‘/home/biocbuild/bbs-3.19-bioc/R/site-library’ * installing *source* package ‘sesame’ ... ** using staged installation ** R ** inst ** byte-compile and prepare package for lazy loading ** help *** installing help indices ** building package indices ** installing vignettes ** testing if installed package can be loaded from temporary location ** testing if installed package can be loaded from final location ** testing if installed package keeps a record of temporary installation path * DONE (sesame)
sesame.Rcheck/tests/testthat.Rout
R Under development (unstable) (2024-03-18 r86148) -- "Unsuffered Consequences" Copyright (C) 2024 The R Foundation for Statistical Computing Platform: x86_64-pc-linux-gnu R is free software and comes with ABSOLUTELY NO WARRANTY. You are welcome to redistribute it under certain conditions. Type 'license()' or 'licence()' for distribution details. R is a collaborative project with many contributors. Type 'contributors()' for more information and 'citation()' on how to cite R or R packages in publications. Type 'demo()' for some demos, 'help()' for on-line help, or 'help.start()' for an HTML browser interface to help. Type 'q()' to quit R. > library(testthat) > library(sesame) Loading required package: sesameData Loading required package: ExperimentHub Loading required package: BiocGenerics Attaching package: 'BiocGenerics' The following objects are masked from 'package:stats': IQR, mad, sd, var, xtabs The following objects are masked from 'package:base': Filter, Find, Map, Position, Reduce, anyDuplicated, aperm, append, as.data.frame, basename, cbind, colnames, dirname, do.call, duplicated, eval, evalq, get, grep, grepl, intersect, is.unsorted, lapply, mapply, match, mget, order, paste, pmax, pmax.int, pmin, pmin.int, rank, rbind, rownames, sapply, setdiff, table, tapply, union, unique, unsplit, which.max, which.min Loading required package: AnnotationHub Loading required package: BiocFileCache Loading required package: dbplyr Loading sesameData. ---------------------------------------------------------- | SEnsible Step-wise Analysis of DNA MEthylation (SeSAMe) | -------------------------------------------------------- | Please cache auxiliary data by "sesameDataCache()". | This needs to be done only once per SeSAMe installation. ---------------------------------------------------------- > > test_check("sesame") [ FAIL 0 | WARN 0 | SKIP 0 | PASS 5 ] > > proc.time() user system elapsed 17.458 0.961 18.724
sesame.Rcheck/sesame-Ex.timings
name | user | system | elapsed | |
BetaValueToMValue | 0 | 0 | 0 | |
DML | 6.513 | 0.356 | 7.646 | |
DMLpredict | 1.297 | 0.100 | 1.596 | |
DMR | 7.862 | 0.308 | 8.485 | |
ELBAR | 14.522 | 0.376 | 15.058 | |
KYCG_annoProbes | 12.977 | 0.548 | 14.013 | |
KYCG_buildGeneDBs | 10.470 | 0.528 | 11.317 | |
KYCG_getDBs | 2.769 | 0.156 | 3.243 | |
KYCG_listDBGroups | 0.029 | 0.004 | 0.033 | |
KYCG_loadDBs | 0 | 0 | 0 | |
KYCG_plotBar | 0.184 | 0.012 | 0.196 | |
KYCG_plotDot | 0.712 | 0.004 | 0.716 | |
KYCG_plotEnrichAll | 17.910 | 0.720 | 19.831 | |
KYCG_plotLollipop | 0.144 | 0.008 | 0.152 | |
KYCG_plotManhattan | 1.187 | 0.012 | 1.200 | |
KYCG_plotMeta | 21.220 | 0.408 | 22.111 | |
KYCG_plotMetaEnrichment | 10.407 | 0.280 | 11.161 | |
KYCG_plotPointRange | 2.128 | 0.052 | 2.339 | |
KYCG_plotSetEnrichment | 4.886 | 0.148 | 5.352 | |
KYCG_plotVolcano | 0.132 | 0.000 | 0.132 | |
KYCG_plotWaterfall | 2.495 | 0.116 | 2.809 | |
MValueToBetaValue | 0 | 0 | 0 | |
SigDF | 0.330 | 0.052 | 0.539 | |
addMask | 0.084 | 0.008 | 0.092 | |
aggregateTestEnrichments | 1.583 | 0.056 | 1.639 | |
betasCollapseToPfx | 0.003 | 0.010 | 0.012 | |
bisConversionControl | 4.420 | 0.126 | 4.906 | |
calcEffectSize | 1.287 | 0.103 | 1.548 | |
checkLevels | 3.132 | 0.149 | 3.438 | |
cnSegmentation | 0.342 | 0.044 | 0.545 | |
compareMouseStrainReference | 10.983 | 0.212 | 11.551 | |
compareMouseTissueReference | 0 | 0 | 0 | |
compareReference | 10.512 | 0.148 | 10.979 | |
controls | 2.057 | 0.108 | 2.486 | |
createUCSCtrack | 5.449 | 0.188 | 5.954 | |
dataFrame2sesameQC | 1.071 | 0.076 | 1.309 | |
dbStats | 6.018 | 0.364 | 6.702 | |
deidentify | 5.398 | 0.160 | 5.875 | |
detectionPnegEcdf | 2.540 | 0.068 | 2.765 | |
diffRefSet | 12.970 | 0.268 | 13.558 | |
dmContrasts | 2.094 | 0.059 | 2.312 | |
dyeBiasCorr | 2.774 | 0.132 | 3.234 | |
dyeBiasCorrMostBalanced | 5.875 | 0.183 | 6.376 | |
dyeBiasL | 2.605 | 0.096 | 2.859 | |
dyeBiasNL | 5.632 | 0.140 | 5.928 | |
estimateLeukocyte | 6.292 | 0.144 | 6.753 | |
formatVCF | 2.248 | 0.136 | 2.703 | |
getAFTypeIbySumAlleles | 1.768 | 0.144 | 2.230 | |
getAFs | 1.090 | 0.056 | 1.318 | |
getBetas | 0.822 | 0.048 | 0.926 | |
getMask | 4.644 | 0.208 | 5.329 | |
getRefSet | 10.540 | 0.336 | 11.231 | |
imputeBetasMatrixByMean | 0.000 | 0.003 | 0.003 | |
inferEthnicity | 1.756 | 0.067 | 2.025 | |
inferInfiniumIChannel | 0.336 | 0.528 | 0.864 | |
inferSex | 34.056 | 0.769 | 35.370 | |
inferSpecies | 17.448 | 1.007 | 18.966 | |
inferStrain | 7.357 | 0.408 | 8.123 | |
inferTissue | 6.590 | 0.212 | 7.117 | |
initFileSet | 1.223 | 0.084 | 1.465 | |
listAvailableMasks | 1.676 | 0.088 | 1.925 | |
mLiftOver | 0.001 | 0.000 | 0.001 | |
mapFileSet | 0.029 | 0.004 | 0.034 | |
mapToMammal40 | 2.884 | 0.145 | 3.350 | |
matchDesign | 13.443 | 0.196 | 13.797 | |
meanIntensity | 3.139 | 0.180 | 3.635 | |
medianTotalIntensity | 0.834 | 0.072 | 1.065 | |
noMasked | 1.756 | 0.044 | 1.956 | |
noob | 2.007 | 0.060 | 2.068 | |
openSesame | 5.189 | 0.148 | 5.558 | |
openSesameToFile | 1.313 | 0.016 | 1.330 | |
pOOBAH | 1.207 | 0.020 | 1.226 | |
palgen | 0.034 | 0.003 | 0.038 | |
parseGEOsignalMU | 3.094 | 0.084 | 3.338 | |
predictAge | 2.384 | 0.084 | 2.625 | |
predictAgeHorvath353 | 0 | 0 | 0 | |
predictAgeSkinBlood | 0 | 0 | 0 | |
predictMouseAgeInMonth | 0.000 | 0.001 | 0.000 | |
prefixMask | 0.458 | 0.003 | 0.461 | |
prefixMaskButC | 0.111 | 0.000 | 0.110 | |
prefixMaskButCG | 0.039 | 0.000 | 0.038 | |
prepSesame | 3.337 | 0.184 | 3.718 | |
prepSesameList | 0.002 | 0.000 | 0.002 | |
print.DMLSummary | 3.182 | 0.124 | 3.620 | |
print.fileSet | 1.247 | 0.072 | 1.478 | |
probeID_designType | 0.001 | 0.000 | 0.001 | |
probeSuccessRate | 5.281 | 0.224 | 6.017 | |
qualityMask | 2.437 | 0.096 | 2.848 | |
reIdentify | 4.454 | 0.068 | 4.679 | |
readFileSet | 0.051 | 0.000 | 0.051 | |
readIDATpair | 0.118 | 0.004 | 0.121 | |
recommendedMaskNames | 0.001 | 0.000 | 0.000 | |
resetMask | 0.434 | 0.036 | 0.628 | |
scrub | 2.146 | 0.092 | 2.238 | |
scrubSoft | 3.106 | 0.008 | 3.114 | |
sdfPlatform | 0.458 | 0.052 | 0.669 | |
sdf_read_table | 8.472 | 0.196 | 8.893 | |
sdf_write_table | 2.703 | 0.124 | 3.063 | |
searchIDATprefixes | 0.002 | 0.002 | 0.004 | |
sesame-package | 2.501 | 0.129 | 2.788 | |
sesameAnno_buildAddressFile | 0.001 | 0.000 | 0.000 | |
sesameAnno_buildManifestGRanges | 0 | 0 | 0 | |
sesameAnno_download | 0 | 0 | 0 | |
sesameAnno_get | 0.000 | 0.000 | 0.001 | |
sesameAnno_readManifestTSV | 0.001 | 0.000 | 0.000 | |
sesameData_getAnno | 0 | 0 | 0 | |
sesameQC_calcStats | 18.052 | 0.172 | 18.381 | |
sesameQC_getStats | 1.753 | 0.012 | 1.765 | |
sesameQC_plotBar | 12.452 | 0.372 | 13.186 | |
sesameQC_plotBetaByDesign | 9.662 | 0.136 | 9.798 | |
sesameQC_plotHeatSNPs | 18.215 | 0.188 | 18.561 | |
sesameQC_plotIntensVsBetas | 1.866 | 0.072 | 2.095 | |
sesameQC_plotRedGrnQQ | 1.938 | 0.064 | 2.161 | |
sesameQC_rankStats | 3.936 | 0.116 | 4.368 | |
sesame_checkVersion | 0.004 | 0.000 | 0.005 | |
sesamize | 0.000 | 0.000 | 0.001 | |
setMask | 0.127 | 0.004 | 0.132 | |
signalMU | 0.930 | 0.064 | 1.150 | |
sliceFileSet | 0.034 | 0.000 | 0.034 | |
summaryExtractTest | 3.555 | 0.223 | 4.094 | |
testEnrichment | 5.705 | 0.345 | 6.573 | |
testEnrichmentGene | 99.813 | 3.224 | 106.270 | |
testEnrichmentSEA | 8.971 | 0.293 | 9.735 | |
totalIntensities | 2.927 | 0.092 | 3.376 | |
updateSigDF | 2.971 | 0.172 | 3.462 | |
visualizeGene | 9.241 | 0.344 | 9.965 | |
visualizeProbes | 0.909 | 0.008 | 0.917 | |
visualizeRegion | 2.811 | 0.092 | 2.903 | |
visualizeSegments | 1.625 | 0.028 | 1.818 | |