Index of /checkResults/devel/bioc-LATEST/seqTools/raw-results/palomino3

[ICO]NameLast modifiedSizeDescription

[DIR]Parent Directory  -  
[TXT]install-out.txt29-Mar-2024 00:38 3.5K 
[   ]install-summary.dcf29-Mar-2024 00:38 270  
[TXT]buildsrc-out.txt29-Mar-2024 00:38 876  
[   ]buildsrc-summary.dcf29-Mar-2024 00:38 456  
[TXT]checksrc-out.txt29-Mar-2024 00:38 7.0K 
[   ]checksrc-summary.dcf29-Mar-2024 00:38 456  
[TXT]buildbin-out.txt29-Mar-2024 00:38 3.6K 
[   ]buildbin-summary.dcf29-Mar-2024 00:38 521