Index of /checkResults/devel/bioc-LATEST/seqTools/raw-results/nebbiolo1

[ICO]NameLast modifiedSizeDescription

[DIR]Parent Directory  -  
[TXT]buildsrc-out.txt29-Feb-2024 01:37 840  
[   ]buildsrc-summary.dcf29-Feb-2024 01:37 420  
[TXT]checksrc-out.txt29-Feb-2024 01:37 7.2K 
[   ]checksrc-summary.dcf29-Feb-2024 01:37 423  
[TXT]install-out.txt29-Feb-2024 01:37 3.3K 
[   ]install-summary.dcf29-Feb-2024 01:37 261