Name | Last modified | Size | Description | |
---|---|---|---|---|
Parent Directory | - | |||
install-summary.dcf | 28-Jul-2024 00:41 | 271 | ||
install-out.txt | 28-Jul-2024 00:41 | 3.2K | ||
checksrc-summary.dcf | 28-Jul-2024 00:41 | 453 | ||
checksrc-out.txt | 28-Jul-2024 00:41 | 7.7K | ||
buildsrc-summary.dcf | 28-Jul-2024 00:41 | 430 | ||
buildsrc-out.txt | 28-Jul-2024 00:41 | 850 | ||
buildbin-summary.dcf | 28-Jul-2024 00:41 | 536 | ||
buildbin-out.txt | 28-Jul-2024 00:41 | 5.2K | ||